OziExplorer Map Data File Version 2.2
200k--g33-28.gif
200k--g33-28.gif
1 ,Map Code,
Pulkovo 1942 (2),WGS 84, 0.0000, 0.0000,WGS 84
Reserved 1
Reserved 2
Magnetic Variation,,,E
Map Projection,Transverse Mercator,PolyCal,No,AutoCalOnly,No,BSBUseWPX,No
Point01,xy, 108, 92,in, deg, 25, 20.0000,N, 15, 0.0000,E, grid, , , ,N
Point02,xy, 2100, 93,in, deg, 25, 20.0000,N, 15, 30.0000,E, grid, , , ,N
Point03,xy, 4088, 88,in, deg, 25, 20.0000,N, 16, 0.0000,E, grid, , , ,N
Point04,xy, 104, 1544,in, deg, 25, 0.0000,N, 15, 0.0000,E, grid, , , ,N
Point05,xy, 2100, 1548,in, deg, 25, 0.0000,N, 15, 30.0000,E, grid, , , ,N
Point06,xy, 4095, 1543,in, deg, 25, 0.0000,N, 16, 0.0000,E, grid, , , ,N
Point07,xy, 96, 3002,in, deg, 24, 40.0000,N, 15, 0.0000,E, grid, , , ,N
Point08,xy, 2100, 3003,in, deg, 24, 40.0000,N, 15, 30.0000,E, grid, , , ,N
Point09,xy, 4102, 2998,in, deg, 24, 40.0000,N, 16, 0.0000,E, grid, , , ,N
Point10,xy, , ,in, deg, , ,N, , ,W, grid, , , ,N
Point11,xy, , ,in, deg, , ,N, , ,W, grid, , , ,N
Point12,xy, , ,in, deg, , ,N, , ,W, grid, , , ,N
Point13,xy, , ,in, deg, , ,N, , ,W, grid, , , ,N
Point14,xy, , ,in, deg, , ,N, , ,W, grid, , , ,N
Point15,xy, , ,in, deg, , ,N, , ,W, grid, , , ,N
Point16,xy, , ,in, deg, , ,N, , ,W, grid, , , ,N
Point17,xy, , ,in, deg, , ,N, , ,W, grid, , , ,N
Point18,xy, , ,in, deg, , ,N, , ,W, grid, , , ,N
Point19,xy, , ,in, deg, , ,N, , ,W, grid, , , ,N
Point20,xy, , ,in, deg, , ,N, , ,W, grid, , , ,N
Point21,xy, , ,in, deg, , ,N, , ,W, grid, , , ,N
Point22,xy, , ,in, deg, , ,N, , ,W, grid, , , ,N
Point23,xy, , ,in, deg, , ,N, , ,W, grid, , , ,N
Point24,xy, , ,in, deg, , ,N, , ,W, grid, , , ,N
Point25,xy, , ,in, deg, , ,N, , ,W, grid, , , ,N
Point26,xy, , ,in, deg, , ,N, , ,W, grid, , , ,N
Point27,xy, , ,in, deg, , ,N, , ,W, grid, , , ,N
Point28,xy, , ,in, deg, , ,N, , ,W, grid, , , ,N
Point29,xy, , ,in, deg, , ,N, , ,W, grid, , , ,N
Point30,xy, , ,in, deg, , ,N, , ,W, grid, , , ,N
Projection Setup, 0.000000000, 15.000000000, 1.000000000, 500000.00, 0.00,,,,,
Map Feature = MF ; Map Comment = MC These follow if they exist
Track File = TF These follow if they exist
Moving Map Parameters = MM? These follow if they exist
MM0,Yes
MMPNUM,4
MMPXY,1,134,99
MMPXY,2,4056,99
MMPXY,3,4056,2990
MMPXY,4,134,2990
MMPLL,1, 15.006506, 25.331520
MMPLL,2, 15.991534, 25.330810
MMPLL,3, 15.988740, 24.668551
MMPLL,4, 15.008978, 24.669178
MM1B,25.276886
MOP,Map Open Position,0,0
IWH,Map Image Width/Height,4190,3089
