OziExplorer Map Data File Version 2.2
200k--g33-19.gif
200k--g33-19.gif
1 ,Map Code,
Pulkovo 1942 (2),WGS 84, 0.0000, 0.0000,WGS 84
Reserved 1
Reserved 2
Magnetic Variation,,,E
Map Projection,Transverse Mercator,PolyCal,No,AutoCalOnly,No,BSBUseWPX,No
Point01,xy, 113, 83,in, deg, 26, 0.0000,N, 12, 0.0000,E, grid, , , ,N
Point02,xy, 2096, 94,in, deg, 26, 0.0000,N, 12, 30.0000,E, grid, , , ,N
Point03,xy, 4077, 98,in, deg, 26, 0.0000,N, 13, 0.0000,E, grid, , , ,N
Point04,xy, 104, 1540,in, deg, 25, 40.0000,N, 12, 0.0000,E, grid, , , ,N
Point05,xy, 2094, 1552,in, deg, 25, 40.0000,N, 12, 30.0000,E, grid, , , ,N
Point06,xy, 4078, 1554,in, deg, 25, 40.0000,N, 13, 0.0000,E, grid, , , ,N
Point07,xy, 96, 2996,in, deg, 25, 20.0000,N, 12, 0.0000,E, grid, , , ,N
Point08,xy, 2090, 3009,in, deg, 25, 20.0000,N, 12, 30.0000,E, grid, , , ,N
Point09,xy, 4080, 3008,in, deg, 25, 20.0000,N, 13, 0.0000,E, grid, , , ,N
Point10,xy, , ,in, deg, , ,N, , ,W, grid, , , ,N
Point11,xy, , ,in, deg, , ,N, , ,W, grid, , , ,N
Point12,xy, , ,in, deg, , ,N, , ,W, grid, , , ,N
Point13,xy, , ,in, deg, , ,N, , ,W, grid, , , ,N
Point14,xy, , ,in, deg, , ,N, , ,W, grid, , , ,N
Point15,xy, , ,in, deg, , ,N, , ,W, grid, , , ,N
Point16,xy, , ,in, deg, , ,N, , ,W, grid, , , ,N
Point17,xy, , ,in, deg, , ,N, , ,W, grid, , , ,N
Point18,xy, , ,in, deg, , ,N, , ,W, grid, , , ,N
Point19,xy, , ,in, deg, , ,N, , ,W, grid, , , ,N
Point20,xy, , ,in, deg, , ,N, , ,W, grid, , , ,N
Point21,xy, , ,in, deg, , ,N, , ,W, grid, , , ,N
Point22,xy, , ,in, deg, , ,N, , ,W, grid, , , ,N
Point23,xy, , ,in, deg, , ,N, , ,W, grid, , , ,N
Point24,xy, , ,in, deg, , ,N, , ,W, grid, , , ,N
Point25,xy, , ,in, deg, , ,N, , ,W, grid, , , ,N
Point26,xy, , ,in, deg, , ,N, , ,W, grid, , , ,N
Point27,xy, , ,in, deg, , ,N, , ,W, grid, , , ,N
Point28,xy, , ,in, deg, , ,N, , ,W, grid, , , ,N
Point29,xy, , ,in, deg, , ,N, , ,W, grid, , , ,N
Point30,xy, , ,in, deg, , ,N, , ,W, grid, , , ,N
Projection Setup, 0.000000000, 15.000000000, 1.000000000, 500000.00, 0.00,,,,,
Map Feature = MF ; Map Comment = MC These follow if they exist
Track File = TF These follow if they exist
Moving Map Parameters = MM? These follow if they exist
MM0,Yes
MMPNUM,4
MMPXY,1,133,99
MMPXY,2,4035,99
MMPXY,3,4035,2994
MMPXY,4,133,2994
MMPLL,1, 12.004859, 25.996452
MMPLL,2, 12.989464, 25.999745
MMPLL,3, 12.988423, 25.336935
MMPLL,4, 12.009252, 25.334058
MM1B,25.270686
MOP,Map Open Position,0,0
IWH,Map Image Width/Height,4168,3093
