OziExplorer Map Data File Version 2.2
200k--g33-16.gif
200k--g33-16.gif
1 ,Map Code,
Pulkovo 1942 (2),WGS 84, 0.0000, 0.0000,WGS 84
Reserved 1
Reserved 2
Magnetic Variation,,,E
Map Projection,Transverse Mercator,PolyCal,No,AutoCalOnly,No,BSBUseWPX,No
Point01,xy, 122, 87,in, deg, 26, 40.0000,N, 15, 0.0000,E, grid, , , ,N
Point02,xy, 2074, 99,in, deg, 26, 40.0000,N, 15, 30.0000,E, grid, , , ,N
Point03,xy, 4025, 103,in, deg, 26, 40.0000,N, 16, 0.0000,E, grid, , , ,N
Point04,xy, 108, 1554,in, deg, 26, 20.0000,N, 15, 0.0000,E, grid, , , ,N
Point05,xy, 2067, 1575,in, deg, 26, 20.0000,N, 15, 30.0000,E, grid, , , ,N
Point06,xy, 4024, 1584,in, deg, 26, 20.0000,N, 16, 0.0000,E, grid, , , ,N
Point07,xy, 90, 3011,in, deg, 26, 0.0000,N, 15, 0.0000,E, grid, , , ,N
Point08,xy, 2054, 3045,in, deg, 26, 0.0000,N, 15, 30.0000,E, grid, , , ,N
Point09,xy, 4017, 3070,in, deg, 26, 0.0000,N, 16, 0.0000,E, grid, , , ,N
Point10,xy, , ,in, deg, , ,N, , ,W, grid, , , ,N
Point11,xy, , ,in, deg, , ,N, , ,W, grid, , , ,N
Point12,xy, , ,in, deg, , ,N, , ,W, grid, , , ,N
Point13,xy, , ,in, deg, , ,N, , ,W, grid, , , ,N
Point14,xy, , ,in, deg, , ,N, , ,W, grid, , , ,N
Point15,xy, , ,in, deg, , ,N, , ,W, grid, , , ,N
Point16,xy, , ,in, deg, , ,N, , ,W, grid, , , ,N
Point17,xy, , ,in, deg, , ,N, , ,W, grid, , , ,N
Point18,xy, , ,in, deg, , ,N, , ,W, grid, , , ,N
Point19,xy, , ,in, deg, , ,N, , ,W, grid, , , ,N
Point20,xy, , ,in, deg, , ,N, , ,W, grid, , , ,N
Point21,xy, , ,in, deg, , ,N, , ,W, grid, , , ,N
Point22,xy, , ,in, deg, , ,N, , ,W, grid, , , ,N
Point23,xy, , ,in, deg, , ,N, , ,W, grid, , , ,N
Point24,xy, , ,in, deg, , ,N, , ,W, grid, , , ,N
Point25,xy, , ,in, deg, , ,N, , ,W, grid, , , ,N
Point26,xy, , ,in, deg, , ,N, , ,W, grid, , , ,N
Point27,xy, , ,in, deg, , ,N, , ,W, grid, , , ,N
Point28,xy, , ,in, deg, , ,N, , ,W, grid, , , ,N
Point29,xy, , ,in, deg, , ,N, , ,W, grid, , , ,N
Point30,xy, , ,in, deg, , ,N, , ,W, grid, , , ,N
Projection Setup, 0.000000000, 15.000000000, 1.000000000, 500000.00, 0.00,,,,,
Map Feature = MF ; Map Comment = MC These follow if they exist
Track File = TF These follow if they exist
Moving Map Parameters = MM? These follow if they exist
MM0,Yes
MMPNUM,4
MMPXY,1,122,87
MMPXY,2,4025,103
MMPXY,3,4017,3070
MMPXY,4,90,3011
MMPLL,1, 15.000000, 26.666667
MMPLL,2, 16.000000, 26.666667
MMPLL,3, 16.000000, 26.000000
MMPLL,4, 15.000000, 26.000000
MM1B,23.462270
MOP,Map Open Position,0,0
IWH,Map Image Width/Height,4118,3154
