OziExplorer Map Data File Version 2.2
200k--g33-12.gif
200k--g33-12.gif
1 ,Map Code,
Pulkovo 1942 (2),WGS 84, 0.0000, 0.0000,WGS 84
Reserved 1
Reserved 2
Magnetic Variation,,,E
Map Projection,Transverse Mercator,PolyCal,No,AutoCalOnly,No,BSBUseWPX,No
Point01,xy, 91, 103,in, deg, 27, 20.0000,N, 17, 0.0000,E, grid, , , ,N
Point02,xy, 2049, 98,in, deg, 27, 20.0000,N, 17, 30.0000,E, grid, , , ,N
Point03,xy, 4007, 82,in, deg, 27, 20.0000,N, 18, 0.0000,E, grid, , , ,N
Point04,xy, 94, 1562,in, deg, 27, 0.0000,N, 17, 0.0000,E, grid, , , ,N
Point05,xy, 2058, 1558,in, deg, 27, 0.0000,N, 17, 30.0000,E, grid, , , ,N
Point06,xy, 4021, 1542,in, deg, 27, 0.0000,N, 18, 0.0000,E, grid, , , ,N
Point07,xy, 94, 3021,in, deg, 26, 40.0000,N, 17, 0.0000,E, grid, , , ,N
Point08,xy, 2068, 3018,in, deg, 26, 40.0000,N, 17, 30.0000,E, grid, , , ,N
Point09,xy, 4037, 3003,in, deg, 26, 40.0000,N, 18, 0.0000,E, grid, , , ,N
Point10,xy, , ,in, deg, , ,N, , ,W, grid, , , ,N
Point11,xy, , ,in, deg, , ,N, , ,W, grid, , , ,N
Point12,xy, , ,in, deg, , ,N, , ,W, grid, , , ,N
Point13,xy, , ,in, deg, , ,N, , ,W, grid, , , ,N
Point14,xy, , ,in, deg, , ,N, , ,W, grid, , , ,N
Point15,xy, , ,in, deg, , ,N, , ,W, grid, , , ,N
Point16,xy, , ,in, deg, , ,N, , ,W, grid, , , ,N
Point17,xy, , ,in, deg, , ,N, , ,W, grid, , , ,N
Point18,xy, , ,in, deg, , ,N, , ,W, grid, , , ,N
Point19,xy, , ,in, deg, , ,N, , ,W, grid, , , ,N
Point20,xy, , ,in, deg, , ,N, , ,W, grid, , , ,N
Point21,xy, , ,in, deg, , ,N, , ,W, grid, , , ,N
Point22,xy, , ,in, deg, , ,N, , ,W, grid, , , ,N
Point23,xy, , ,in, deg, , ,N, , ,W, grid, , , ,N
Point24,xy, , ,in, deg, , ,N, , ,W, grid, , , ,N
Point25,xy, , ,in, deg, , ,N, , ,W, grid, , , ,N
Point26,xy, , ,in, deg, , ,N, , ,W, grid, , , ,N
Point27,xy, , ,in, deg, , ,N, , ,W, grid, , , ,N
Point28,xy, , ,in, deg, , ,N, , ,W, grid, , , ,N
Point29,xy, , ,in, deg, , ,N, , ,W, grid, , , ,N
Point30,xy, , ,in, deg, , ,N, , ,W, grid, , , ,N
Projection Setup, 0.000000000, 15.000000000, 1.000000000, 500000.00, 0.00,,,,,
Map Feature = MF ; Map Comment = MC These follow if they exist
Track File = TF These follow if they exist
Moving Map Parameters = MM? These follow if they exist
MM0,Yes
MMPNUM,4
MMPXY,1,132,99
MMPXY,2,3991,99
MMPXY,3,3991,3003
MMPXY,4,132,3003
MMPLL,1, 17.010596, 27.334281
MMPLL,2, 17.995733, 27.329650
MMPLL,3, 17.988457, 26.666810
MMPLL,4, 17.009086, 26.671014
MM1B,25.270464
MOP,Map Open Position,0,0
IWH,Map Image Width/Height,4123,3102
