OziExplorer Map Data File Version 2.2
200k--g33-06.gif
200k--g33-06.gif
1 ,Map Code,
Pulkovo 1942 (2),WGS 84, 0.0000, 0.0000,WGS 84
Reserved 1
Reserved 2
Magnetic Variation,,,E
Map Projection,Transverse Mercator,PolyCal,No,AutoCalOnly,No,BSBUseWPX,No
Point01,xy, 98, 92,in, deg, 28, 0.0000,N, 17, 0.0000,E, grid, , , ,N
Point02,xy, 2042, 92,in, deg, 28, 0.0000,N, 17, 30.0000,E, grid, , , ,N
Point03,xy, 3992, 83,in, deg, 28, 0.0000,N, 18, 0.0000,E, grid, , , ,N
Point04,xy, 96, 1548,in, deg, 27, 40.0000,N, 17, 0.0000,E, grid, , , ,N
Point05,xy, 2046, 1548,in, deg, 27, 40.0000,N, 17, 30.0000,E, grid, , , ,N
Point06,xy, 3999, 1542,in, deg, 27, 40.0000,N, 18, 0.0000,E, grid, , , ,N
Point07,xy, 92, 3006,in, deg, 27, 20.0000,N, 17, 0.0000,E, grid, , , ,N
Point08,xy, 2050, 3006,in, deg, 27, 20.0000,N, 17, 30.0000,E, grid, , , ,N
Point09,xy, 4010, 3000,in, deg, 27, 20.0000,N, 18, 0.0000,E, grid, , , ,N
Point10,xy, , ,in, deg, , ,N, , ,W, grid, , , ,N
Point11,xy, , ,in, deg, , ,N, , ,W, grid, , , ,N
Point12,xy, , ,in, deg, , ,N, , ,W, grid, , , ,N
Point13,xy, , ,in, deg, , ,N, , ,W, grid, , , ,N
Point14,xy, , ,in, deg, , ,N, , ,W, grid, , , ,N
Point15,xy, , ,in, deg, , ,N, , ,W, grid, , , ,N
Point16,xy, , ,in, deg, , ,N, , ,W, grid, , , ,N
Point17,xy, , ,in, deg, , ,N, , ,W, grid, , , ,N
Point18,xy, , ,in, deg, , ,N, , ,W, grid, , , ,N
Point19,xy, , ,in, deg, , ,N, , ,W, grid, , , ,N
Point20,xy, , ,in, deg, , ,N, , ,W, grid, , , ,N
Point21,xy, , ,in, deg, , ,N, , ,W, grid, , , ,N
Point22,xy, , ,in, deg, , ,N, , ,W, grid, , , ,N
Point23,xy, , ,in, deg, , ,N, , ,W, grid, , , ,N
Point24,xy, , ,in, deg, , ,N, , ,W, grid, , , ,N
Point25,xy, , ,in, deg, , ,N, , ,W, grid, , , ,N
Point26,xy, , ,in, deg, , ,N, , ,W, grid, , , ,N
Point27,xy, , ,in, deg, , ,N, , ,W, grid, , , ,N
Point28,xy, , ,in, deg, , ,N, , ,W, grid, , , ,N
Point29,xy, , ,in, deg, , ,N, , ,W, grid, , , ,N
Point30,xy, , ,in, deg, , ,N, , ,W, grid, , , ,N
Projection Setup, 0.000000000, 15.000000000, 1.000000000, 500000.00, 0.00,,,,,
Map Feature = MF ; Map Comment = MC These follow if they exist
Track File = TF These follow if they exist
Moving Map Parameters = MM? These follow if they exist
MM0,Yes
MMPNUM,4
MMPXY,1,131,99
MMPXY,2,3969,99
MMPXY,3,3969,2995
MMPXY,4,131,2995
MMPLL,1, 17.008643, 27.998282
MMPLL,2, 17.994457, 27.996502
MMPLL,3, 17.989793, 27.334400
MMPLL,4, 17.009911, 27.335777
MM1B,25.270590
MOP,Map Open Position,0,0
IWH,Map Image Width/Height,4100,3094
