OziExplorer Map Data File Version 2.2
200k--g33-03.gif
200k--g33-03.gif
1 ,Map Code,
Pulkovo 1942 (2),WGS 84, 0.0000, 0.0000,WGS 84
Reserved 1
Reserved 2
Magnetic Variation,,,E
Map Projection,Transverse Mercator,PolyCal,No,AutoCalOnly,No,BSBUseWPX,No
Point01,xy, 98, 82,in, deg, 28, 0.0000,N, 14, 0.0000,E, grid, , , ,N
Point02,xy, 2042, 87,in, deg, 28, 0.0000,N, 14, 30.0000,E, grid, , , ,N
Point03,xy, 3991, 86,in, deg, 28, 0.0000,N, 15, 0.0000,E, grid, , , ,N
Point04,xy, 92, 1537,in, deg, 27, 40.0000,N, 14, 0.0000,E, grid, , , ,N
Point05,xy, 2042, 1545,in, deg, 27, 40.0000,N, 14, 30.0000,E, grid, , , ,N
Point06,xy, 3992, 1544,in, deg, 27, 40.0000,N, 15, 0.0000,E, grid, , , ,N
Point07,xy, 83, 2996,in, deg, 27, 20.0000,N, 14, 0.0000,E, grid, , , ,N
Point08,xy, 2039, 3001,in, deg, 27, 20.0000,N, 14, 30.0000,E, grid, , , ,N
Point09,xy, 3996, 3001,in, deg, 27, 20.0000,N, 15, 0.0000,E, grid, , , ,N
Point10,xy, , ,in, deg, , ,N, , ,W, grid, , , ,N
Point11,xy, , ,in, deg, , ,N, , ,W, grid, , , ,N
Point12,xy, , ,in, deg, , ,N, , ,W, grid, , , ,N
Point13,xy, , ,in, deg, , ,N, , ,W, grid, , , ,N
Point14,xy, , ,in, deg, , ,N, , ,W, grid, , , ,N
Point15,xy, , ,in, deg, , ,N, , ,W, grid, , , ,N
Point16,xy, , ,in, deg, , ,N, , ,W, grid, , , ,N
Point17,xy, , ,in, deg, , ,N, , ,W, grid, , , ,N
Point18,xy, , ,in, deg, , ,N, , ,W, grid, , , ,N
Point19,xy, , ,in, deg, , ,N, , ,W, grid, , , ,N
Point20,xy, , ,in, deg, , ,N, , ,W, grid, , , ,N
Point21,xy, , ,in, deg, , ,N, , ,W, grid, , , ,N
Point22,xy, , ,in, deg, , ,N, , ,W, grid, , , ,N
Point23,xy, , ,in, deg, , ,N, , ,W, grid, , , ,N
Point24,xy, , ,in, deg, , ,N, , ,W, grid, , , ,N
Point25,xy, , ,in, deg, , ,N, , ,W, grid, , , ,N
Point26,xy, , ,in, deg, , ,N, , ,W, grid, , , ,N
Point27,xy, , ,in, deg, , ,N, , ,W, grid, , , ,N
Point28,xy, , ,in, deg, , ,N, , ,W, grid, , , ,N
Point29,xy, , ,in, deg, , ,N, , ,W, grid, , , ,N
Point30,xy, , ,in, deg, , ,N, , ,W, grid, , , ,N
Projection Setup, 0.000000000, 15.000000000, 1.000000000, 500000.00, 0.00,,,,,
Map Feature = MF ; Map Comment = MC These follow if they exist
Track File = TF These follow if they exist
Moving Map Parameters = MM? These follow if they exist
MM0,Yes
MMPNUM,4
MMPXY,1,130,99
MMPXY,2,3947,99
MMPXY,3,3947,2981
MMPXY,4,130,2981
MMPLL,1, 14.008056, 27.995890
MMPLL,2, 14.989222, 27.997133
MMPLL,3, 14.987390, 27.337835
MMPLL,4, 14.012094, 27.336679
MM1B,25.276083
MOP,Map Open Position,0,0
IWH,Map Image Width/Height,4077,3080
