OziExplorer Map Data File Version 2.2
500k--g27-2.gif
500k--g27-2.gif
1 ,Map Code,
Pulkovo 1942 (2),WGS 84, 0.0000, 0.0000,WGS 84
Reserved 1
Reserved 2
Magnetic Variation,,,E
Map Projection,Transverse Mercator,PolyCal,No,AutoCalOnly,No,BSBUseWPX,No
Point01,xy, 106, 53,in, deg, 28, 0.0000,N, 21, 0.0000,W, grid, , , ,N
Point02,xy, 2084, 71,in, deg, 28, 0.0000,N, 19, 30.0000,W, grid, , , ,N
Point03,xy, 4059, 68,in, deg, 28, 0.0000,N, 18, 0.0000,W, grid, , , ,N
Point04,xy, 86, 1535,in, deg, 27, 0.0000,N, 21, 0.0000,W, grid, , , ,N
Point05,xy, 2080, 1553,in, deg, 27, 0.0000,N, 19, 30.0000,W, grid, , , ,N
Point06,xy, 4070, 1550,in, deg, 27, 0.0000,N, 18, 0.0000,W, grid, , , ,N
Point07,xy, 65, 3017,in, deg, 26, 0.0000,N, 21, 0.0000,W, grid, , , ,N
Point08,xy, 2075, 3036,in, deg, 26, 0.0000,N, 19, 30.0000,W, grid, , , ,N
Point09,xy, 4085, 3033,in, deg, 26, 0.0000,N, 18, 0.0000,W, grid, , , ,N
Point10,xy, , ,in, deg, , ,N, , ,W, grid, , , ,N
Point11,xy, , ,in, deg, , ,N, , ,W, grid, , , ,N
Point12,xy, , ,in, deg, , ,N, , ,W, grid, , , ,N
Point13,xy, , ,in, deg, , ,N, , ,W, grid, , , ,N
Point14,xy, , ,in, deg, , ,N, , ,W, grid, , , ,N
Point15,xy, , ,in, deg, , ,N, , ,W, grid, , , ,N
Point16,xy, , ,in, deg, , ,N, , ,W, grid, , , ,N
Point17,xy, , ,in, deg, , ,N, , ,W, grid, , , ,N
Point18,xy, , ,in, deg, , ,N, , ,W, grid, , , ,N
Point19,xy, , ,in, deg, , ,N, , ,W, grid, , , ,N
Point20,xy, , ,in, deg, , ,N, , ,W, grid, , , ,N
Point21,xy, , ,in, deg, , ,N, , ,W, grid, , , ,N
Point22,xy, , ,in, deg, , ,N, , ,W, grid, , , ,N
Point23,xy, , ,in, deg, , ,N, , ,W, grid, , , ,N
Point24,xy, , ,in, deg, , ,N, , ,W, grid, , , ,N
Point25,xy, , ,in, deg, , ,N, , ,W, grid, , , ,N
Point26,xy, , ,in, deg, , ,N, , ,W, grid, , , ,N
Point27,xy, , ,in, deg, , ,N, , ,W, grid, , , ,N
Point28,xy, , ,in, deg, , ,N, , ,W, grid, , , ,N
Point29,xy, , ,in, deg, , ,N, , ,W, grid, , , ,N
Point30,xy, , ,in, deg, , ,N, , ,W, grid, , , ,N
Projection Setup, 0.000000000, -21.000000000, 1.000000000, 500000.00, 0.00,,,,,
Map Feature = MF ; Map Comment = MC These follow if they exist
Track File = TF These follow if they exist
Moving Map Parameters = MM? These follow if they exist
MM0,Yes
MMPNUM,4
MMPXY,1,106,53
MMPXY,2,4059,68
MMPXY,3,4085,3033
MMPXY,4,65,3017
MMPLL,1, -21.000000, 28.000000
MMPLL,2, -18.000000, 28.000000
MMPLL,3, -18.000000, 26.000000
MMPLL,4, -21.000000, 26.000000
MM1B,71.774976
MOP,Map Open Position,0,0
IWH,Map Image Width/Height,4134,3093
