OziExplorer Map Data File Version 2.2
500k--g14-3.gif
500k--g14-3.gif
1 ,Map Code,
Pulkovo 1942 (2),WGS 84, 0.0000, 0.0000,WGS 84
Reserved 1
Reserved 2
Magnetic Variation,,,E
Map Projection,Transverse Mercator,PolyCal,No,AutoCalOnly,No,BSBUseWPX,No
Point01,xy, 71, 62,in, deg, 26, 0.0000,N, 102, 0.0000,W, grid, , , ,N
Point02,xy, 1850, 77,in, deg, 26, 0.0000,N, 100, 30.0000,W, grid, , , ,N
Point03,xy, 3626, 66,in, deg, 26, 0.0000,N, 99, 0.0000,W, grid, , , ,N
Point04,xy, 57, 1373,in, deg, 25, 0.0000,N, 102, 0.0000,W, grid, , , ,N
Point05,xy, 1851, 1386,in, deg, 25, 0.0000,N, 100, 30.0000,W, grid, , , ,N
Point06,xy, 3643, 1374,in, deg, 25, 0.0000,N, 99, 0.0000,W, grid, , , ,N
Point07,xy, 45, 2682,in, deg, 24, 0.0000,N, 102, 0.0000,W, grid, , , ,N
Point08,xy, 1854, 2690,in, deg, 24, 0.0000,N, 100, 30.0000,W, grid, , , ,N
Point09,xy, 3660, 2681,in, deg, 24, 0.0000,N, 99, 0.0000,W, grid, , , ,N
Point10,xy, , ,in, deg, , ,N, , ,W, grid, , , ,N
Point11,xy, , ,in, deg, , ,N, , ,W, grid, , , ,N
Point12,xy, , ,in, deg, , ,N, , ,W, grid, , , ,N
Point13,xy, , ,in, deg, , ,N, , ,W, grid, , , ,N
Point14,xy, , ,in, deg, , ,N, , ,W, grid, , , ,N
Point15,xy, , ,in, deg, , ,N, , ,W, grid, , , ,N
Point16,xy, , ,in, deg, , ,N, , ,W, grid, , , ,N
Point17,xy, , ,in, deg, , ,N, , ,W, grid, , , ,N
Point18,xy, , ,in, deg, , ,N, , ,W, grid, , , ,N
Point19,xy, , ,in, deg, , ,N, , ,W, grid, , , ,N
Point20,xy, , ,in, deg, , ,N, , ,W, grid, , , ,N
Point21,xy, , ,in, deg, , ,N, , ,W, grid, , , ,N
Point22,xy, , ,in, deg, , ,N, , ,W, grid, , , ,N
Point23,xy, , ,in, deg, , ,N, , ,W, grid, , , ,N
Point24,xy, , ,in, deg, , ,N, , ,W, grid, , , ,N
Point25,xy, , ,in, deg, , ,N, , ,W, grid, , , ,N
Point26,xy, , ,in, deg, , ,N, , ,W, grid, , , ,N
Point27,xy, , ,in, deg, , ,N, , ,W, grid, , , ,N
Point28,xy, , ,in, deg, , ,N, , ,W, grid, , , ,N
Point29,xy, , ,in, deg, , ,N, , ,W, grid, , , ,N
Point30,xy, , ,in, deg, , ,N, , ,W, grid, , , ,N
Projection Setup, 0.000000000, -105.000000000, 1.000000000, 500000.00, 0.00,,,,,
Map Feature = MF ; Map Comment = MC These follow if they exist
Track File = TF These follow if they exist
Moving Map Parameters = MM? These follow if they exist
MM0,Yes
MMPNUM,4
MMPXY,1,71,62
MMPXY,2,3626,66
MMPXY,3,3660,2681
MMPXY,4,45,2682
MMPLL,1, -102.000000, 26.000000
MMPLL,2, -99.000000, 26.000000
MMPLL,3, -99.000000, 24.000000
MMPLL,4, -102.000000, 24.000000
MM1B,80.874317
MOP,Map Open Position,0,0
IWH,Map Image Width/Height,3717,2745
