OziExplorer Map Data File Version 2.2
200k--f48-32.gif
200k--f48-32.gif
1 ,Map Code,
Pulkovo 1942 (2),WGS 84, 0.0000, 0.0000,WGS 84
Reserved 1
Reserved 2
Magnetic Variation,,,E
Map Projection,Transverse Mercator,PolyCal,No,AutoCalOnly,No,BSBUseWPX,No
Point01,xy, 107, 84,in, deg, 20, 40.0000,N, 103, 0.0000,E, grid, , , ,N
Point02,xy, 2168, 90,in, deg, 20, 40.0000,N, 103, 30.0000,E, grid, , , ,N
Point03,xy, 4228, 89,in, deg, 20, 40.0000,N, 104, 0.0000,E, grid, , , ,N
Point04,xy, 100, 1536,in, deg, 20, 20.0000,N, 103, 0.0000,E, grid, , , ,N
Point05,xy, 2168, 1542,in, deg, 20, 20.0000,N, 103, 30.0000,E, grid, , , ,N
Point06,xy, 4233, 1543,in, deg, 20, 20.0000,N, 104, 0.0000,E, grid, , , ,N
Point07,xy, 94, 2992,in, deg, 20, 0.0000,N, 103, 0.0000,E, grid, , , ,N
Point08,xy, 2166, 2998,in, deg, 20, 0.0000,N, 103, 30.0000,E, grid, , , ,N
Point09,xy, 4237, 2998,in, deg, 20, 0.0000,N, 104, 0.0000,E, grid, , , ,N
Point10,xy, , ,in, deg, , ,N, , ,W, grid, , , ,N
Point11,xy, , ,in, deg, , ,N, , ,W, grid, , , ,N
Point12,xy, , ,in, deg, , ,N, , ,W, grid, , , ,N
Point13,xy, , ,in, deg, , ,N, , ,W, grid, , , ,N
Point14,xy, , ,in, deg, , ,N, , ,W, grid, , , ,N
Point15,xy, , ,in, deg, , ,N, , ,W, grid, , , ,N
Point16,xy, , ,in, deg, , ,N, , ,W, grid, , , ,N
Point17,xy, , ,in, deg, , ,N, , ,W, grid, , , ,N
Point18,xy, , ,in, deg, , ,N, , ,W, grid, , , ,N
Point19,xy, , ,in, deg, , ,N, , ,W, grid, , , ,N
Point20,xy, , ,in, deg, , ,N, , ,W, grid, , , ,N
Point21,xy, , ,in, deg, , ,N, , ,W, grid, , , ,N
Point22,xy, , ,in, deg, , ,N, , ,W, grid, , , ,N
Point23,xy, , ,in, deg, , ,N, , ,W, grid, , , ,N
Point24,xy, , ,in, deg, , ,N, , ,W, grid, , , ,N
Point25,xy, , ,in, deg, , ,N, , ,W, grid, , , ,N
Point26,xy, , ,in, deg, , ,N, , ,W, grid, , , ,N
Point27,xy, , ,in, deg, , ,N, , ,W, grid, , , ,N
Point28,xy, , ,in, deg, , ,N, , ,W, grid, , , ,N
Point29,xy, , ,in, deg, , ,N, , ,W, grid, , , ,N
Point30,xy, , ,in, deg, , ,N, , ,W, grid, , , ,N
Projection Setup, 0.000000000, 105.000000000, 1.000000000, 500000.00, 0.00,,,,,
Map Feature = MF ; Map Comment = MC These follow if they exist
Track File = TF These follow if they exist
Moving Map Parameters = MM? These follow if they exist
MM0,Yes
MMPNUM,4
MMPXY,1,139,99
MMPXY,2,4190,99
MMPXY,3,4190,2985
MMPXY,4,139,2985
MMPLL,1, 103.008012, 20.662993
MMPLL,2, 103.990421, 20.664477
MMPLL,3, 103.988817, 20.002809
MMPLL,4, 103.010579, 20.001590
MM1B,25.267420
MOP,Map Open Position,0,0
IWH,Map Image Width/Height,4329,3084
