OziExplorer Map Data File Version 2.2
200k--f48-31.gif
200k--f48-31.gif
1 ,Map Code,
Pulkovo 1942 (2),WGS 84, 0.0000, 0.0000,WGS 84
Reserved 1
Reserved 2
Magnetic Variation,,,E
Map Projection,Transverse Mercator,PolyCal,No,AutoCalOnly,No,BSBUseWPX,No
Point01,xy, 90, 105,in, deg, 20, 40.0000,N, 102, 0.0000,E, grid, , , ,N
Point02,xy, 2150, 98,in, deg, 20, 40.0000,N, 102, 30.0000,E, grid, , , ,N
Point03,xy, 4212, 81,in, deg, 20, 40.0000,N, 103, 0.0000,E, grid, , , ,N
Point04,xy, 93, 1558,in, deg, 20, 20.0000,N, 102, 0.0000,E, grid, , , ,N
Point05,xy, 2158, 1548,in, deg, 20, 20.0000,N, 102, 30.0000,E, grid, , , ,N
Point06,xy, 4225, 1533,in, deg, 20, 20.0000,N, 103, 0.0000,E, grid, , , ,N
Point07,xy, 96, 3013,in, deg, 20, 0.0000,N, 102, 0.0000,E, grid, , , ,N
Point08,xy, 2167, 3003,in, deg, 20, 0.0000,N, 102, 30.0000,E, grid, , , ,N
Point09,xy, 4239, 2985,in, deg, 20, 0.0000,N, 103, 0.0000,E, grid, , , ,N
Point10,xy, , ,in, deg, , ,N, , ,W, grid, , , ,N
Point11,xy, , ,in, deg, , ,N, , ,W, grid, , , ,N
Point12,xy, , ,in, deg, , ,N, , ,W, grid, , , ,N
Point13,xy, , ,in, deg, , ,N, , ,W, grid, , , ,N
Point14,xy, , ,in, deg, , ,N, , ,W, grid, , , ,N
Point15,xy, , ,in, deg, , ,N, , ,W, grid, , , ,N
Point16,xy, , ,in, deg, , ,N, , ,W, grid, , , ,N
Point17,xy, , ,in, deg, , ,N, , ,W, grid, , , ,N
Point18,xy, , ,in, deg, , ,N, , ,W, grid, , , ,N
Point19,xy, , ,in, deg, , ,N, , ,W, grid, , , ,N
Point20,xy, , ,in, deg, , ,N, , ,W, grid, , , ,N
Point21,xy, , ,in, deg, , ,N, , ,W, grid, , , ,N
Point22,xy, , ,in, deg, , ,N, , ,W, grid, , , ,N
Point23,xy, , ,in, deg, , ,N, , ,W, grid, , , ,N
Point24,xy, , ,in, deg, , ,N, , ,W, grid, , , ,N
Point25,xy, , ,in, deg, , ,N, , ,W, grid, , , ,N
Point26,xy, , ,in, deg, , ,N, , ,W, grid, , , ,N
Point27,xy, , ,in, deg, , ,N, , ,W, grid, , , ,N
Point28,xy, , ,in, deg, , ,N, , ,W, grid, , , ,N
Point29,xy, , ,in, deg, , ,N, , ,W, grid, , , ,N
Point30,xy, , ,in, deg, , ,N, , ,W, grid, , , ,N
Projection Setup, 0.000000000, 105.000000000, 1.000000000, 500000.00, 0.00,,,,,
Map Feature = MF ; Map Comment = MC These follow if they exist
Track File = TF These follow if they exist
Moving Map Parameters = MM? These follow if they exist
MM0,Yes
MMPNUM,4
MMPXY,1,139,99
MMPXY,2,4190,99
MMPXY,3,4190,2994
MMPXY,4,139,2994
MMPLL,1, 102.012181, 20.668131
MMPLL,2, 102.994573, 20.662558
MMPLL,3, 102.988450, 19.998166
MMPLL,4, 102.010256, 20.004155
MM1B,25.275580
MOP,Map Open Position,0,0
IWH,Map Image Width/Height,4329,3093
