OziExplorer Map Data File Version 2.2
200k--f48-10.gif
200k--f48-10.gif
1 ,Map Code,
Pulkovo 1942 (2),WGS 84, 0.0000, 0.0000,WGS 84
Reserved 1
Reserved 2
Magnetic Variation,,,E
Map Projection,Transverse Mercator,PolyCal,No,AutoCalOnly,No,BSBUseWPX,No
Point01,xy, 99, 93,in, deg, 23, 20.0000,N, 105, 0.0000,E, grid, , , ,N
Point02,xy, 2120, 95,in, deg, 23, 20.0000,N, 105, 30.0000,E, grid, , , ,N
Point03,xy, 4142, 90,in, deg, 23, 20.0000,N, 106, 0.0000,E, grid, , , ,N
Point04,xy, 95, 1545,in, deg, 23, 0.0000,N, 105, 0.0000,E, grid, , , ,N
Point05,xy, 2121, 1546,in, deg, 23, 0.0000,N, 105, 30.0000,E, grid, , , ,N
Point06,xy, 4148, 1544,in, deg, 23, 0.0000,N, 106, 0.0000,E, grid, , , ,N
Point07,xy, 92, 2997,in, deg, 22, 40.0000,N, 105, 0.0000,E, grid, , , ,N
Point08,xy, 2123, 3000,in, deg, 22, 40.0000,N, 105, 30.0000,E, grid, , , ,N
Point09,xy, 4154, 2995,in, deg, 22, 40.0000,N, 106, 0.0000,E, grid, , , ,N
Point10,xy, , ,in, deg, , ,N, , ,W, grid, , , ,N
Point11,xy, , ,in, deg, , ,N, , ,W, grid, , , ,N
Point12,xy, , ,in, deg, , ,N, , ,W, grid, , , ,N
Point13,xy, , ,in, deg, , ,N, , ,W, grid, , , ,N
Point14,xy, , ,in, deg, , ,N, , ,W, grid, , , ,N
Point15,xy, , ,in, deg, , ,N, , ,W, grid, , , ,N
Point16,xy, , ,in, deg, , ,N, , ,W, grid, , , ,N
Point17,xy, , ,in, deg, , ,N, , ,W, grid, , , ,N
Point18,xy, , ,in, deg, , ,N, , ,W, grid, , , ,N
Point19,xy, , ,in, deg, , ,N, , ,W, grid, , , ,N
Point20,xy, , ,in, deg, , ,N, , ,W, grid, , , ,N
Point21,xy, , ,in, deg, , ,N, , ,W, grid, , , ,N
Point22,xy, , ,in, deg, , ,N, , ,W, grid, , , ,N
Point23,xy, , ,in, deg, , ,N, , ,W, grid, , , ,N
Point24,xy, , ,in, deg, , ,N, , ,W, grid, , , ,N
Point25,xy, , ,in, deg, , ,N, , ,W, grid, , , ,N
Point26,xy, , ,in, deg, , ,N, , ,W, grid, , , ,N
Point27,xy, , ,in, deg, , ,N, , ,W, grid, , , ,N
Point28,xy, , ,in, deg, , ,N, , ,W, grid, , , ,N
Point29,xy, , ,in, deg, , ,N, , ,W, grid, , , ,N
Point30,xy, , ,in, deg, , ,N, , ,W, grid, , , ,N
Projection Setup, 0.000000000, 105.000000000, 1.000000000, 500000.00, 0.00,,,,,
Map Feature = MF ; Map Comment = MC These follow if they exist
Track File = TF These follow if they exist
Moving Map Parameters = MM? These follow if they exist
MM0,Yes
MMPNUM,4
MMPXY,1,136,98
MMPXY,2,4100,98
MMPXY,3,4100,2976
MMPXY,4,136,2976
MMPLL,1, 105.009184, 23.332116
MMPLL,2, 105.989708, 23.331628
MMPLL,3, 105.986681, 22.671139
MMPLL,4, 105.010917, 22.671538
MM1B,25.288506
MOP,Map Open Position,0,0
IWH,Map Image Width/Height,4236,3074
