OziExplorer Map Data File Version 2.2
200k--e46-36.gif
200k--e46-36.gif
1 ,Map Code,
Pulkovo 1942 (2),WGS 84, 0.0000, 0.0000,WGS 84
Reserved 1
Reserved 2
Magnetic Variation,,,E
Map Projection,Transverse Mercator,PolyCal,No,AutoCalOnly,No,BSBUseWPX,No
Point01,xy, 95, 84,in, deg, 16, 40.0000,N, 95, 0.0000,E, grid, , , ,N
Point02,xy, 2200, 82,in, deg, 16, 40.0000,N, 95, 30.0000,E, grid, , , ,N
Point03,xy, 4304, 87,in, deg, 16, 40.0000,N, 96, 0.0000,E, grid, , , ,N
Point04,xy, 95, 1536,in, deg, 16, 20.0000,N, 95, 0.0000,E, grid, , , ,N
Point05,xy, 2184, 1536,ex, deg, 16, 20.0000,N, 95, 30.0000,E, grid, , , ,N
Point06,xy, 4308, 1538,in, deg, 16, 20.0000,N, 96, 0.0000,E, grid, , , ,N
Point07,xy, 93, 2992,in, deg, 16, 0.0000,N, 95, 0.0000,E, grid, , , ,N
Point08,xy, 2205, 3000,in, deg, 16, 0.0000,N, 95, 30.0000,E, grid, , , ,N
Point09,xy, 4318, 2992,in, deg, 16, 0.0000,N, 96, 0.0000,E, grid, , , ,N
Point10,xy, , ,in, deg, , ,N, , ,W, grid, , , ,N
Point11,xy, , ,in, deg, , ,N, , ,W, grid, , , ,N
Point12,xy, , ,in, deg, , ,N, , ,W, grid, , , ,N
Point13,xy, , ,in, deg, , ,N, , ,W, grid, , , ,N
Point14,xy, , ,in, deg, , ,N, , ,W, grid, , , ,N
Point15,xy, , ,in, deg, , ,N, , ,W, grid, , , ,N
Point16,xy, , ,in, deg, , ,N, , ,W, grid, , , ,N
Point17,xy, , ,in, deg, , ,N, , ,W, grid, , , ,N
Point18,xy, , ,in, deg, , ,N, , ,W, grid, , , ,N
Point19,xy, , ,in, deg, , ,N, , ,W, grid, , , ,N
Point20,xy, , ,in, deg, , ,N, , ,W, grid, , , ,N
Point21,xy, , ,in, deg, , ,N, , ,W, grid, , , ,N
Point22,xy, , ,in, deg, , ,N, , ,W, grid, , , ,N
Point23,xy, , ,in, deg, , ,N, , ,W, grid, , , ,N
Point24,xy, , ,in, deg, , ,N, , ,W, grid, , , ,N
Point25,xy, , ,in, deg, , ,N, , ,W, grid, , , ,N
Point26,xy, , ,in, deg, , ,N, , ,W, grid, , , ,N
Point27,xy, , ,in, deg, , ,N, , ,W, grid, , , ,N
Point28,xy, , ,in, deg, , ,N, , ,W, grid, , , ,N
Point29,xy, , ,in, deg, , ,N, , ,W, grid, , , ,N
Point30,xy, , ,in, deg, , ,N, , ,W, grid, , , ,N
Projection Setup, 0.000000000, 93.000000000, 1.000000000, 500000.00, 0.00,,,,,
Map Feature = MF ; Map Comment = MC These follow if they exist
Track File = TF These follow if they exist
Moving Map Parameters = MM? These follow if they exist
MM0,Yes
MMPNUM,4
MMPXY,1,141,99
MMPXY,2,4253,99
MMPXY,3,4253,2981
MMPXY,4,141,2981
MMPLL,1, 95.010883, 16.662965
MMPLL,2, 95.987939, 16.663112
MMPLL,3, 95.984974, 16.003174
MMPLL,4, 95.011196, 16.002566
MM1B,25.357772
MOP,Map Open Position,0,0
IWH,Map Image Width/Height,4394,3080
