OziExplorer Map Data File Version 2.2
200k--e46-17.gif
200k--e46-17.gif
1 ,Map Code,
Pulkovo 1942 (2),WGS 84, 0.0000, 0.0000,WGS 84
Reserved 1
Reserved 2
Magnetic Variation,,,E
Map Projection,Transverse Mercator,PolyCal,No,AutoCalOnly,No,BSBUseWPX,No
Point01,xy, 128, 92,in, deg, 18, 40.0000,N, 94, 0.0000,E, grid, , , ,N
Point02,xy, 2210, 86,in, deg, 18, 40.0000,N, 94, 30.0000,E, grid, , , ,N
Point03,xy, 4289, 86,in, deg, 18, 40.0000,N, 95, 0.0000,E, grid, , , ,N
Point04,xy, 135, 1516,ex, deg, 18, 20.0000,N, 94, 0.0000,E, grid, , , ,N
Point05,xy, 2168, 1522,ex, deg, 18, 20.0000,N, 94, 30.0000,E, grid, , , ,N
Point06,xy, 4292, 1540,in, deg, 18, 20.0000,N, 95, 0.0000,E, grid, , , ,N
Point07,xy, 132, 3007,in, deg, 18, 0.0000,N, 94, 0.0000,E, grid, , , ,N
Point08,xy, 2220, 3003,in, deg, 18, 0.0000,N, 94, 30.0000,E, grid, , , ,N
Point09,xy, 4304, 2990,in, deg, 18, 0.0000,N, 95, 0.0000,E, grid, , , ,N
Point10,xy, , ,in, deg, , ,N, , ,W, grid, , , ,N
Point11,xy, , ,in, deg, , ,N, , ,W, grid, , , ,N
Point12,xy, , ,in, deg, , ,N, , ,W, grid, , , ,N
Point13,xy, , ,in, deg, , ,N, , ,W, grid, , , ,N
Point14,xy, , ,in, deg, , ,N, , ,W, grid, , , ,N
Point15,xy, , ,in, deg, , ,N, , ,W, grid, , , ,N
Point16,xy, , ,in, deg, , ,N, , ,W, grid, , , ,N
Point17,xy, , ,in, deg, , ,N, , ,W, grid, , , ,N
Point18,xy, , ,in, deg, , ,N, , ,W, grid, , , ,N
Point19,xy, , ,in, deg, , ,N, , ,W, grid, , , ,N
Point20,xy, , ,in, deg, , ,N, , ,W, grid, , , ,N
Point21,xy, , ,in, deg, , ,N, , ,W, grid, , , ,N
Point22,xy, , ,in, deg, , ,N, , ,W, grid, , , ,N
Point23,xy, , ,in, deg, , ,N, , ,W, grid, , , ,N
Point24,xy, , ,in, deg, , ,N, , ,W, grid, , , ,N
Point25,xy, , ,in, deg, , ,N, , ,W, grid, , , ,N
Point26,xy, , ,in, deg, , ,N, , ,W, grid, , , ,N
Point27,xy, , ,in, deg, , ,N, , ,W, grid, , , ,N
Point28,xy, , ,in, deg, , ,N, , ,W, grid, , , ,N
Point29,xy, , ,in, deg, , ,N, , ,W, grid, , , ,N
Point30,xy, , ,in, deg, , ,N, , ,W, grid, , , ,N
Projection Setup, 0.000000000, 93.000000000, 1.000000000, 500000.00, 0.00,,,,,
Map Feature = MF ; Map Comment = MC These follow if they exist
Track File = TF These follow if they exist
Moving Map Parameters = MM? These follow if they exist
MM0,Yes
MMPNUM,4
MMPXY,1,140,98
MMPXY,2,4240,98
MMPXY,3,4240,2976
MMPXY,4,140,2976
MMPLL,1, 94.002375, 18.665504
MMPLL,2, 94.988728, 18.663011
MMPLL,3, 94.984590, 18.004283
MMPLL,4, 94.001967, 18.006496
MM1B,25.378879
MOP,Map Open Position,0,0
IWH,Map Image Width/Height,4380,3074
