OziExplorer Map Data File Version 2.2
500k--d44-3.gif
500k--d44-3.gif
1 ,Map Code,
Pulkovo 1942 (2),WGS 84, 0.0000, 0.0000,WGS 84
Reserved 1
Reserved 2
Magnetic Variation,,,E
Map Projection,Transverse Mercator,PolyCal,No,AutoCalOnly,No,BSBUseWPX,No
Point01,xy, 63, 55,in, deg, 14, 0.0000,N, 78, 0.0000,E, grid, , , ,N
Point02,xy, 1981, 61,in, deg, 14, 0.0000,N, 79, 30.0000,E, grid, , , ,N
Point03,xy, 3902, 53,in, deg, 14, 0.0000,N, 81, 0.0000,E, grid, , , ,N
Point04,xy, 59, 1363,in, deg, 13, 0.0000,N, 78, 0.0000,E, grid, , , ,N
Point05,xy, 1985, 1370,in, deg, 13, 0.0000,N, 79, 30.0000,E, grid, , , ,N
Point06,xy, 3911, 1360,in, deg, 13, 0.0000,N, 81, 0.0000,E, grid, , , ,N
Point07,xy, 57, 2673,in, deg, 12, 0.0000,N, 78, 0.0000,E, grid, , , ,N
Point08,xy, 1987, 2677,in, deg, 12, 0.0000,N, 79, 30.0000,E, grid, , , ,N
Point09,xy, 3921, 2670,in, deg, 12, 0.0000,N, 81, 0.0000,E, grid, , , ,N
Point10,xy, , ,in, deg, , ,N, , ,W, grid, , , ,N
Point11,xy, , ,in, deg, , ,N, , ,W, grid, , , ,N
Point12,xy, , ,in, deg, , ,N, , ,W, grid, , , ,N
Point13,xy, , ,in, deg, , ,N, , ,W, grid, , , ,N
Point14,xy, , ,in, deg, , ,N, , ,W, grid, , , ,N
Point15,xy, , ,in, deg, , ,N, , ,W, grid, , , ,N
Point16,xy, , ,in, deg, , ,N, , ,W, grid, , , ,N
Point17,xy, , ,in, deg, , ,N, , ,W, grid, , , ,N
Point18,xy, , ,in, deg, , ,N, , ,W, grid, , , ,N
Point19,xy, , ,in, deg, , ,N, , ,W, grid, , , ,N
Point20,xy, , ,in, deg, , ,N, , ,W, grid, , , ,N
Point21,xy, , ,in, deg, , ,N, , ,W, grid, , , ,N
Point22,xy, , ,in, deg, , ,N, , ,W, grid, , , ,N
Point23,xy, , ,in, deg, , ,N, , ,W, grid, , , ,N
Point24,xy, , ,in, deg, , ,N, , ,W, grid, , , ,N
Point25,xy, , ,in, deg, , ,N, , ,W, grid, , , ,N
Point26,xy, , ,in, deg, , ,N, , ,W, grid, , , ,N
Point27,xy, , ,in, deg, , ,N, , ,W, grid, , , ,N
Point28,xy, , ,in, deg, , ,N, , ,W, grid, , , ,N
Point29,xy, , ,in, deg, , ,N, , ,W, grid, , , ,N
Point30,xy, , ,in, deg, , ,N, , ,W, grid, , , ,N
Projection Setup, 0.000000000, 81.000000000, 1.000000000, 500000.00, 0.00,,,,,
Map Feature = MF ; Map Comment = MC These follow if they exist
Track File = TF These follow if they exist
Moving Map Parameters = MM? These follow if they exist
MM0,Yes
MMPNUM,4
MMPXY,1,63,55
MMPXY,2,3902,53
MMPXY,3,3921,2670
MMPXY,4,57,2673
MMPLL,1, 78.000000, 14.000000
MMPLL,2, 81.000000, 14.000000
MMPLL,3, 81.000000, 12.000000
MMPLL,4, 78.000000, 12.000000
MM1B,81.229418
MOP,Map Open Position,0,0
IWH,Map Image Width/Height,3976,2733
