OziExplorer Map Data File Version 2.2
200k--d44-07.gif
200k--d44-07.gif
1 ,Map Code,
Pulkovo 1942 (2),WGS 84, 0.0000, 0.0000,WGS 84
Reserved 1
Reserved 2
Magnetic Variation,,,E
Map Projection,Transverse Mercator,PolyCal,No,AutoCalOnly,No,BSBUseWPX,No
Point01,xy, 96, 85,in, deg, 15, 20.0000,N, 78, 0.0000,E, grid, , , ,N
Point02,xy, 2222, 89,in, deg, 15, 20.0000,N, 78, 30.0000,E, grid, , , ,N
Point03,xy, 4349, 86,in, deg, 15, 20.0000,N, 79, 0.0000,E, grid, , , ,N
Point04,xy, 92, 1541,in, deg, 15, 0.0000,N, 78, 0.0000,E, grid, , , ,N
Point05,xy, 2215, 1542,ex, deg, 15, 0.0000,N, 78, 30.0000,E, grid, , , ,N
Point06,xy, 4354, 1541,in, deg, 15, 0.0000,N, 79, 0.0000,E, grid, , , ,N
Point07,xy, 88, 2996,in, deg, 14, 40.0000,N, 78, 0.0000,E, grid, , , ,N
Point08,xy, 2224, 3000,in, deg, 14, 40.0000,N, 78, 30.0000,E, grid, , , ,N
Point09,xy, 4359, 2996,in, deg, 14, 40.0000,N, 79, 0.0000,E, grid, , , ,N
Point10,xy, , ,in, deg, , ,N, , ,W, grid, , , ,N
Point11,xy, , ,in, deg, , ,N, , ,W, grid, , , ,N
Point12,xy, , ,in, deg, , ,N, , ,W, grid, , , ,N
Point13,xy, , ,in, deg, , ,N, , ,W, grid, , , ,N
Point14,xy, , ,in, deg, , ,N, , ,W, grid, , , ,N
Point15,xy, , ,in, deg, , ,N, , ,W, grid, , , ,N
Point16,xy, , ,in, deg, , ,N, , ,W, grid, , , ,N
Point17,xy, , ,in, deg, , ,N, , ,W, grid, , , ,N
Point18,xy, , ,in, deg, , ,N, , ,W, grid, , , ,N
Point19,xy, , ,in, deg, , ,N, , ,W, grid, , , ,N
Point20,xy, , ,in, deg, , ,N, , ,W, grid, , , ,N
Point21,xy, , ,in, deg, , ,N, , ,W, grid, , , ,N
Point22,xy, , ,in, deg, , ,N, , ,W, grid, , , ,N
Point23,xy, , ,in, deg, , ,N, , ,W, grid, , , ,N
Point24,xy, , ,in, deg, , ,N, , ,W, grid, , , ,N
Point25,xy, , ,in, deg, , ,N, , ,W, grid, , , ,N
Point26,xy, , ,in, deg, , ,N, , ,W, grid, , , ,N
Point27,xy, , ,in, deg, , ,N, , ,W, grid, , , ,N
Point28,xy, , ,in, deg, , ,N, , ,W, grid, , , ,N
Point29,xy, , ,in, deg, , ,N, , ,W, grid, , , ,N
Point30,xy, , ,in, deg, , ,N, , ,W, grid, , , ,N
Projection Setup, 0.000000000, 81.000000000, 1.000000000, 500000.00, 0.00,,,,,
Map Feature = MF ; Map Comment = MC These follow if they exist
Track File = TF These follow if they exist
Moving Map Parameters = MM? These follow if they exist
MM0,Yes
MMPNUM,4
MMPXY,1,142,99
MMPXY,2,4305,99
MMPXY,3,4305,2981
MMPXY,4,142,2981
MMPLL,1, 78.011141, 15.330181
MMPLL,2, 78.989422, 15.330485
MMPLL,3, 78.987611, 14.670164
MMPLL,4, 78.012332, 14.670320
MM1B,25.246032
MOP,Map Open Position,0,0
IWH,Map Image Width/Height,4447,3080
