OziExplorer Map Data File Version 2.2
200k--d28-28.gif
200k--d28-28.gif
1 ,Map Code,
Pulkovo 1942 (2),WGS 84, 0.0000, 0.0000,WGS 84
Reserved 1
Reserved 2
Magnetic Variation,,,E
Map Projection,Transverse Mercator,PolyCal,No,AutoCalOnly,No,BSBUseWPX,No
Point01,xy, 79, 87,in, deg, 13, 20.0000,N, 15, 0.0000,W, grid, , , ,N
Point02,xy, 2212, 85,in, deg, 13, 20.0000,N, 14, 30.0000,W, grid, , , ,N
Point03,xy, 4348, 79,in, deg, 13, 20.0000,N, 14, 0.0000,W, grid, , , ,N
Point04,xy, 81, 1540,in, deg, 13, 0.0000,N, 15, 0.0000,W, grid, , , ,N
Point05,xy, 2218, 1541,in, deg, 13, 0.0000,N, 14, 30.0000,W, grid, , , ,N
Point06,xy, 4355, 1534,in, deg, 13, 0.0000,N, 14, 0.0000,W, grid, , , ,N
Point07,xy, 81, 2994,in, deg, 12, 40.0000,N, 15, 0.0000,W, grid, , , ,N
Point08,xy, 2223, 2998,in, deg, 12, 40.0000,N, 14, 30.0000,W, grid, , , ,N
Point09,xy, 4365, 2986,in, deg, 12, 40.0000,N, 14, 0.0000,W, grid, , , ,N
Point10,xy, , ,in, deg, , ,N, , ,W, grid, , , ,N
Point11,xy, , ,in, deg, , ,N, , ,W, grid, , , ,N
Point12,xy, , ,in, deg, , ,N, , ,W, grid, , , ,N
Point13,xy, , ,in, deg, , ,N, , ,W, grid, , , ,N
Point14,xy, , ,in, deg, , ,N, , ,W, grid, , , ,N
Point15,xy, , ,in, deg, , ,N, , ,W, grid, , , ,N
Point16,xy, , ,in, deg, , ,N, , ,W, grid, , , ,N
Point17,xy, , ,in, deg, , ,N, , ,W, grid, , , ,N
Point18,xy, , ,in, deg, , ,N, , ,W, grid, , , ,N
Point19,xy, , ,in, deg, , ,N, , ,W, grid, , , ,N
Point20,xy, , ,in, deg, , ,N, , ,W, grid, , , ,N
Point21,xy, , ,in, deg, , ,N, , ,W, grid, , , ,N
Point22,xy, , ,in, deg, , ,N, , ,W, grid, , , ,N
Point23,xy, , ,in, deg, , ,N, , ,W, grid, , , ,N
Point24,xy, , ,in, deg, , ,N, , ,W, grid, , , ,N
Point25,xy, , ,in, deg, , ,N, , ,W, grid, , , ,N
Point26,xy, , ,in, deg, , ,N, , ,W, grid, , , ,N
Point27,xy, , ,in, deg, , ,N, , ,W, grid, , , ,N
Point28,xy, , ,in, deg, , ,N, , ,W, grid, , , ,N
Point29,xy, , ,in, deg, , ,N, , ,W, grid, , , ,N
Point30,xy, , ,in, deg, , ,N, , ,W, grid, , , ,N
Projection Setup, 0.000000000, -15.000000000, 1.000000000, 500000.00, 0.00,,,,,
Map Feature = MF ; Map Comment = MC These follow if they exist
Track File = TF These follow if they exist
Moving Map Parameters = MM? These follow if they exist
MM0,Yes
MMPNUM,4
MMPXY,1,142,98
MMPXY,2,4302,98
MMPXY,3,4302,2976
MMPXY,4,142,2976
MMPLL,1, -14.985025, 13.330762
MMPLL,2, -14.010791, 13.329072
MMPLL,3, -14.014392, 12.669574
MMPLL,4, -14.986056, 12.671162
MM1B,25.363681
MOP,Map Open Position,0,0
IWH,Map Image Width/Height,4444,3074
