OziExplorer Map Data File Version 2.2
200k--d28-14.gif
200k--d28-14.gif
1 ,Map Code,
Pulkovo 1942 (2),WGS 84, 0.0000, 0.0000,WGS 84
Reserved 1
Reserved 2
Magnetic Variation,,,E
Map Projection,Transverse Mercator,PolyCal,No,AutoCalOnly,No,BSBUseWPX,No
Point01,xy, 98, 87,in, deg, 14, 40.0000,N, 17, 0.0000,W, grid, , , ,N
Point02,xy, 2221, 89,in, deg, 14, 40.0000,N, 16, 30.0000,W, grid, , , ,N
Point03,xy, 4343, 90,in, deg, 14, 40.0000,N, 16, 0.0000,W, grid, , , ,N
Point04,xy, 96, 1545,in, deg, 14, 20.0000,N, 17, 0.0000,W, grid, , , ,N
Point05,xy, 2222, 1547,in, deg, 14, 20.0000,N, 16, 30.0000,W, grid, , , ,N
Point06,xy, 4345, 1544,in, deg, 14, 20.0000,N, 16, 0.0000,W, grid, , , ,N
Point07,xy, 92, 2999,in, deg, 14, 0.0000,N, 17, 0.0000,W, grid, , , ,N
Point08,xy, 2221, 3005,in, deg, 14, 0.0000,N, 16, 30.0000,W, grid, , , ,N
Point09,xy, 4353, 3001,in, deg, 14, 0.0000,N, 16, 0.0000,W, grid, , , ,N
Point10,xy, , ,in, deg, , ,N, , ,W, grid, , , ,N
Point11,xy, , ,in, deg, , ,N, , ,W, grid, , , ,N
Point12,xy, , ,in, deg, , ,N, , ,W, grid, , , ,N
Point13,xy, , ,in, deg, , ,N, , ,W, grid, , , ,N
Point14,xy, , ,in, deg, , ,N, , ,W, grid, , , ,N
Point15,xy, , ,in, deg, , ,N, , ,W, grid, , , ,N
Point16,xy, , ,in, deg, , ,N, , ,W, grid, , , ,N
Point17,xy, , ,in, deg, , ,N, , ,W, grid, , , ,N
Point18,xy, , ,in, deg, , ,N, , ,W, grid, , , ,N
Point19,xy, , ,in, deg, , ,N, , ,W, grid, , , ,N
Point20,xy, , ,in, deg, , ,N, , ,W, grid, , , ,N
Point21,xy, , ,in, deg, , ,N, , ,W, grid, , , ,N
Point22,xy, , ,in, deg, , ,N, , ,W, grid, , , ,N
Point23,xy, , ,in, deg, , ,N, , ,W, grid, , , ,N
Point24,xy, , ,in, deg, , ,N, , ,W, grid, , , ,N
Point25,xy, , ,in, deg, , ,N, , ,W, grid, , , ,N
Point26,xy, , ,in, deg, , ,N, , ,W, grid, , , ,N
Point27,xy, , ,in, deg, , ,N, , ,W, grid, , , ,N
Point28,xy, , ,in, deg, , ,N, , ,W, grid, , , ,N
Point29,xy, , ,in, deg, , ,N, , ,W, grid, , , ,N
Point30,xy, , ,in, deg, , ,N, , ,W, grid, , , ,N
Projection Setup, 0.000000000, -15.000000000, 1.000000000, 500000.00, 0.00,,,,,
Map Feature = MF ; Map Comment = MC These follow if they exist
Track File = TF These follow if they exist
Moving Map Parameters = MM? These follow if they exist
MM0,Yes
MMPNUM,4
MMPXY,1,142,99
MMPXY,2,4301,99
MMPXY,3,4301,2990
MMPXY,4,142,2990
MMPLL,1, -16.989594, 14.663937
MMPLL,2, -16.009947, 14.664374
MMPLL,3, -16.011694, 14.002613
MMPLL,4, -16.988471, 14.002453
MM1B,25.370749
MOP,Map Open Position,0,0
IWH,Map Image Width/Height,4443,3089
