OziExplorer Map Data File Version 2.2
200k--d28-08.gif
200k--d28-08.gif
1 ,Map Code,
Pulkovo 1942 (2),WGS 84, 0.0000, 0.0000,WGS 84
Reserved 1
Reserved 2
Magnetic Variation,,,E
Map Projection,Transverse Mercator,PolyCal,No,AutoCalOnly,No,BSBUseWPX,No
Point01,xy, 98, 85,in, deg, 15, 20.0000,N, 17, 0.0000,W, grid, , , ,N
Point02,xy, 2214, 87,in, deg, 15, 20.0000,N, 16, 30.0000,W, grid, , , ,N
Point03,xy, 4331, 90,in, deg, 15, 20.0000,N, 16, 0.0000,W, grid, , , ,N
Point04,xy, 95, 1542,in, deg, 15, 0.0000,N, 17, 0.0000,W, grid, , , ,N
Point05,xy, 2214, 1546,in, deg, 15, 0.0000,N, 16, 30.0000,W, grid, , , ,N
Point06,xy, 4332, 1548,in, deg, 15, 0.0000,N, 16, 0.0000,W, grid, , , ,N
Point07,xy, 90, 3001,in, deg, 14, 40.0000,N, 17, 0.0000,W, grid, , , ,N
Point08,xy, 2213, 3009,in, deg, 14, 40.0000,N, 16, 30.0000,W, grid, , , ,N
Point09,xy, 4338, 3004,in, deg, 14, 40.0000,N, 16, 0.0000,W, grid, , , ,N
Point10,xy, , ,in, deg, , ,N, , ,W, grid, , , ,N
Point11,xy, , ,in, deg, , ,N, , ,W, grid, , , ,N
Point12,xy, , ,in, deg, , ,N, , ,W, grid, , , ,N
Point13,xy, , ,in, deg, , ,N, , ,W, grid, , , ,N
Point14,xy, , ,in, deg, , ,N, , ,W, grid, , , ,N
Point15,xy, , ,in, deg, , ,N, , ,W, grid, , , ,N
Point16,xy, , ,in, deg, , ,N, , ,W, grid, , , ,N
Point17,xy, , ,in, deg, , ,N, , ,W, grid, , , ,N
Point18,xy, , ,in, deg, , ,N, , ,W, grid, , , ,N
Point19,xy, , ,in, deg, , ,N, , ,W, grid, , , ,N
Point20,xy, , ,in, deg, , ,N, , ,W, grid, , , ,N
Point21,xy, , ,in, deg, , ,N, , ,W, grid, , , ,N
Point22,xy, , ,in, deg, , ,N, , ,W, grid, , , ,N
Point23,xy, , ,in, deg, , ,N, , ,W, grid, , , ,N
Point24,xy, , ,in, deg, , ,N, , ,W, grid, , , ,N
Point25,xy, , ,in, deg, , ,N, , ,W, grid, , , ,N
Point26,xy, , ,in, deg, , ,N, , ,W, grid, , , ,N
Point27,xy, , ,in, deg, , ,N, , ,W, grid, , , ,N
Point28,xy, , ,in, deg, , ,N, , ,W, grid, , , ,N
Point29,xy, , ,in, deg, , ,N, , ,W, grid, , , ,N
Point30,xy, , ,in, deg, , ,N, , ,W, grid, , , ,N
Projection Setup, 0.000000000, -15.000000000, 1.000000000, 500000.00, 0.00,,,,,
Map Feature = MF ; Map Comment = MC These follow if they exist
Track File = TF These follow if they exist
Moving Map Parameters = MM? These follow if they exist
MM0,Yes
MMPNUM,4
MMPXY,1,142,99
MMPXY,2,4281,99
MMPXY,3,4281,2995
MMPXY,4,142,2995
MMPLL,1, -16.989554, 15.329861
MMPLL,2, -16.011714, 15.331043
MMPLL,3, -16.013058, 14.669123
MMPLL,4, -16.987894, 14.668218
MM1B,25.367703
MOP,Map Open Position,0,0
IWH,Map Image Width/Height,4423,3094
