OziExplorer Map Data File Version 2.2
200k--d28-05.gif
200k--d28-05.gif
1 ,Map Code,
Pulkovo 1942 (2),WGS 84, 0.0000, 0.0000,WGS 84
Reserved 1
Reserved 2
Magnetic Variation,,,E
Map Projection,Transverse Mercator,PolyCal,No,AutoCalOnly,No,BSBUseWPX,No
Point01,xy, 99, 87,in, deg, 16, 0.0000,N, 14, 0.0000,W, grid, , , ,N
Point02,xy, 2208, 87,in, deg, 16, 0.0000,N, 13, 30.0000,W, grid, , , ,N
Point03,xy, 4317, 87,in, deg, 16, 0.0000,N, 13, 0.0000,W, grid, , , ,N
Point04,xy, 98, 1540,in, deg, 15, 40.0000,N, 14, 0.0000,W, grid, , , ,N
Point05,xy, 2211, 1544,in, deg, 15, 40.0000,N, 13, 30.0000,W, grid, , , ,N
Point06,xy, 4322, 1542,in, deg, 15, 40.0000,N, 13, 0.0000,W, grid, , , ,N
Point07,xy, 94, 2995,in, deg, 15, 20.0000,N, 14, 0.0000,W, grid, , , ,N
Point08,xy, 2211, 3001,in, deg, 15, 20.0000,N, 13, 30.0000,W, grid, , , ,N
Point09,xy, 4328, 2996,in, deg, 15, 20.0000,N, 13, 0.0000,W, grid, , , ,N
Point10,xy, , ,in, deg, , ,N, , ,W, grid, , , ,N
Point11,xy, , ,in, deg, , ,N, , ,W, grid, , , ,N
Point12,xy, , ,in, deg, , ,N, , ,W, grid, , , ,N
Point13,xy, , ,in, deg, , ,N, , ,W, grid, , , ,N
Point14,xy, , ,in, deg, , ,N, , ,W, grid, , , ,N
Point15,xy, , ,in, deg, , ,N, , ,W, grid, , , ,N
Point16,xy, , ,in, deg, , ,N, , ,W, grid, , , ,N
Point17,xy, , ,in, deg, , ,N, , ,W, grid, , , ,N
Point18,xy, , ,in, deg, , ,N, , ,W, grid, , , ,N
Point19,xy, , ,in, deg, , ,N, , ,W, grid, , , ,N
Point20,xy, , ,in, deg, , ,N, , ,W, grid, , , ,N
Point21,xy, , ,in, deg, , ,N, , ,W, grid, , , ,N
Point22,xy, , ,in, deg, , ,N, , ,W, grid, , , ,N
Point23,xy, , ,in, deg, , ,N, , ,W, grid, , , ,N
Point24,xy, , ,in, deg, , ,N, , ,W, grid, , , ,N
Point25,xy, , ,in, deg, , ,N, , ,W, grid, , , ,N
Point26,xy, , ,in, deg, , ,N, , ,W, grid, , , ,N
Point27,xy, , ,in, deg, , ,N, , ,W, grid, , , ,N
Point28,xy, , ,in, deg, , ,N, , ,W, grid, , , ,N
Point29,xy, , ,in, deg, , ,N, , ,W, grid, , , ,N
Point30,xy, , ,in, deg, , ,N, , ,W, grid, , , ,N
Projection Setup, 0.000000000, -15.000000000, 1.000000000, 500000.00, 0.00,,,,,
Map Feature = MF ; Map Comment = MC These follow if they exist
Track File = TF These follow if they exist
Moving Map Parameters = MM? These follow if they exist
MM0,Yes
MMPNUM,4
MMPXY,1,141,99
MMPXY,2,4277,99
MMPXY,3,4277,2985
MMPXY,4,141,2985
MMPLL,1, -13.990059, 15.997023
MMPLL,2, -13.009619, 15.997108
MMPLL,3, -13.011897, 15.336165
MMPLL,4, -13.989187, 15.335800
MM1B,25.370858
MOP,Map Open Position,0,0
IWH,Map Image Width/Height,4418,3084
