OziExplorer Map Data File Version 2.2
200k--d28-04.gif
200k--d28-04.gif
1 ,Map Code,
Pulkovo 1942 (2),WGS 84, 0.0000, 0.0000,WGS 84
Reserved 1
Reserved 2
Magnetic Variation,,,E
Map Projection,Transverse Mercator,PolyCal,No,AutoCalOnly,No,BSBUseWPX,No
Point01,xy, 81, 80,in, deg, 16, 0.0000,N, 15, 0.0000,W, grid, , , ,N
Point02,xy, 2192, 81,in, deg, 16, 0.0000,N, 14, 30.0000,W, grid, , , ,N
Point03,xy, 4301, 82,in, deg, 16, 0.0000,N, 14, 0.0000,W, grid, , , ,N
Point04,xy, 83, 1532,in, deg, 15, 40.0000,N, 15, 0.0000,W, grid, , , ,N
Point05,xy, 2194, 1539,in, deg, 15, 40.0000,N, 14, 30.0000,W, grid, , , ,N
Point06,xy, 4304, 1539,in, deg, 15, 40.0000,N, 14, 0.0000,W, grid, , , ,N
Point07,xy, 77, 2989,in, deg, 15, 20.0000,N, 15, 0.0000,W, grid, , , ,N
Point08,xy, 2195, 2997,in, deg, 15, 20.0000,N, 14, 30.0000,W, grid, , , ,N
Point09,xy, 4310, 2993,in, deg, 15, 20.0000,N, 14, 0.0000,W, grid, , , ,N
Point10,xy, , ,in, deg, , ,N, , ,W, grid, , , ,N
Point11,xy, , ,in, deg, , ,N, , ,W, grid, , , ,N
Point12,xy, , ,in, deg, , ,N, , ,W, grid, , , ,N
Point13,xy, , ,in, deg, , ,N, , ,W, grid, , , ,N
Point14,xy, , ,in, deg, , ,N, , ,W, grid, , , ,N
Point15,xy, , ,in, deg, , ,N, , ,W, grid, , , ,N
Point16,xy, , ,in, deg, , ,N, , ,W, grid, , , ,N
Point17,xy, , ,in, deg, , ,N, , ,W, grid, , , ,N
Point18,xy, , ,in, deg, , ,N, , ,W, grid, , , ,N
Point19,xy, , ,in, deg, , ,N, , ,W, grid, , , ,N
Point20,xy, , ,in, deg, , ,N, , ,W, grid, , , ,N
Point21,xy, , ,in, deg, , ,N, , ,W, grid, , , ,N
Point22,xy, , ,in, deg, , ,N, , ,W, grid, , , ,N
Point23,xy, , ,in, deg, , ,N, , ,W, grid, , , ,N
Point24,xy, , ,in, deg, , ,N, , ,W, grid, , , ,N
Point25,xy, , ,in, deg, , ,N, , ,W, grid, , , ,N
Point26,xy, , ,in, deg, , ,N, , ,W, grid, , , ,N
Point27,xy, , ,in, deg, , ,N, , ,W, grid, , , ,N
Point28,xy, , ,in, deg, , ,N, , ,W, grid, , , ,N
Point29,xy, , ,in, deg, , ,N, , ,W, grid, , , ,N
Point30,xy, , ,in, deg, , ,N, , ,W, grid, , , ,N
Projection Setup, 0.000000000, -15.000000000, 1.000000000, 500000.00, 0.00,,,,,
Map Feature = MF ; Map Comment = MC These follow if they exist
Track File = TF These follow if they exist
Moving Map Parameters = MM? These follow if they exist
MM0,Yes
MMPNUM,4
MMPXY,1,141,98
MMPXY,2,4255,98
MMPXY,3,4255,2976
MMPXY,4,141,2976
MMPLL,1, -14.986190, 15.995460
MMPLL,2, -14.010817, 15.996374
MMPLL,3, -14.013005, 15.337547
MMPLL,4, -14.985257, 15.336539
MM1B,25.368223
MOP,Map Open Position,0,0
IWH,Map Image Width/Height,4396,3074
