OziExplorer Map Data File Version 2.2
001m--c54.gif
001m--c54.gif
1 ,Map Code,
Pulkovo 1942 (2),WGS 84, 0.0000, 0.0000,WGS 84
Reserved 1
Reserved 2
Magnetic Variation,,,E
Map Projection,Transverse Mercator,PolyCal,No,AutoCalOnly,No,BSBUseWPX,No
Point01,xy, 94, 106,in, deg, 12, 0.0000,N, 138, 0.0000,E, grid, , , ,N
Point02,xy, 2674, 113,in, deg, 12, 0.0000,N, 141, 0.0000,E, grid, , , ,N
Point03,xy, 5253, 90,in, deg, 12, 0.0000,N, 144, 0.0000,E, grid, , , ,N
Point04,xy, 87, 1856,in, deg, 10, 0.0000,N, 138, 0.0000,E, grid, , , ,N
Point05,xy, 2680, 1861,in, deg, 10, 0.0000,N, 141, 0.0000,E, grid, , , ,N
Point06,xy, 5276, 1842,in, deg, 10, 0.0000,N, 144, 0.0000,E, grid, , , ,N
Point07,xy, 78, 3607,in, deg, 8, 0.0000,N, 138, 0.0000,E, grid, , , ,N
Point08,xy, 2686, 3607,in, deg, 8, 0.0000,N, 141, 0.0000,E, grid, , , ,N
Point09,xy, 5298, 3592,in, deg, 8, 0.0000,N, 144, 0.0000,E, grid, , , ,N
Point10,xy, , ,in, deg, , ,N, , ,W, grid, , , ,N
Point11,xy, , ,in, deg, , ,N, , ,W, grid, , , ,N
Point12,xy, , ,in, deg, , ,N, , ,W, grid, , , ,N
Point13,xy, , ,in, deg, , ,N, , ,W, grid, , , ,N
Point14,xy, , ,in, deg, , ,N, , ,W, grid, , , ,N
Point15,xy, , ,in, deg, , ,N, , ,W, grid, , , ,N
Point16,xy, , ,in, deg, , ,N, , ,W, grid, , , ,N
Point17,xy, , ,in, deg, , ,N, , ,W, grid, , , ,N
Point18,xy, , ,in, deg, , ,N, , ,W, grid, , , ,N
Point19,xy, , ,in, deg, , ,N, , ,W, grid, , , ,N
Point20,xy, , ,in, deg, , ,N, , ,W, grid, , , ,N
Point21,xy, , ,in, deg, , ,N, , ,W, grid, , , ,N
Point22,xy, , ,in, deg, , ,N, , ,W, grid, , , ,N
Point23,xy, , ,in, deg, , ,N, , ,W, grid, , , ,N
Point24,xy, , ,in, deg, , ,N, , ,W, grid, , , ,N
Point25,xy, , ,in, deg, , ,N, , ,W, grid, , , ,N
Point26,xy, , ,in, deg, , ,N, , ,W, grid, , , ,N
Point27,xy, , ,in, deg, , ,N, , ,W, grid, , , ,N
Point28,xy, , ,in, deg, , ,N, , ,W, grid, , , ,N
Point29,xy, , ,in, deg, , ,N, , ,W, grid, , , ,N
Point30,xy, , ,in, deg, , ,N, , ,W, grid, , , ,N
Projection Setup, 0.000000000, 141.000000000, 1.000000000, 500000.00, 0.00,,,,,
Map Feature = MF ; Map Comment = MC These follow if they exist
Track File = TF These follow if they exist
Moving Map Parameters = MM? These follow if they exist
MM0,Yes
MMPNUM,4
MMPXY,1,94,106
MMPXY,2,5253,90
MMPXY,3,5298,3592
MMPXY,4,78,3607
MMPLL,1, 138.000000, 12.000000
MMPLL,2, 144.000000, 12.000000
MMPLL,3, 144.000000, 8.000000
MMPLL,4, 138.000000, 8.000000
MM1B,120.488467
MOP,Map Open Position,0,0
IWH,Map Image Width/Height,5375,3685
