OziExplorer Map Data File Version 2.2
200k--c50-24.gif
200k--c50-24.gif
1 ,Map Code,
Pulkovo 1942 (2),WGS 84, 0.0000, 0.0000,WGS 84
Reserved 1
Reserved 2
Magnetic Variation,,,E
Map Projection,Transverse Mercator,PolyCal,No,AutoCalOnly,No,BSBUseWPX,No
Point01,xy, 82, 86,in, deg, 10, 0.0000,N, 119, 0.0000,E, grid, , , ,N
Point02,xy, 2243, 85,in, deg, 10, 0.0000,N, 119, 30.0000,E, grid, , , ,N
Point03,xy, 4405, 86,in, deg, 10, 0.0000,N, 120, 0.0000,E, grid, , , ,N
Point04,xy, 83, 1541,in, deg, 9, 40.0000,N, 119, 0.0000,E, grid, , , ,N
Point05,xy, 2244, 1542,in, deg, 9, 40.0000,N, 119, 30.0000,E, grid, , , ,N
Point06,xy, 4407, 1541,in, deg, 9, 40.0000,N, 120, 0.0000,E, grid, , , ,N
Point07,xy, 81, 2993,in, deg, 9, 20.0000,N, 119, 0.0000,E, grid, , , ,N
Point08,xy, 2246, 3001,in, deg, 9, 20.0000,N, 119, 30.0000,E, grid, , , ,N
Point09,xy, 4412, 2995,in, deg, 9, 20.0000,N, 120, 0.0000,E, grid, , , ,N
Point10,xy, , ,in, deg, , ,N, , ,W, grid, , , ,N
Point11,xy, , ,in, deg, , ,N, , ,W, grid, , , ,N
Point12,xy, , ,in, deg, , ,N, , ,W, grid, , , ,N
Point13,xy, , ,in, deg, , ,N, , ,W, grid, , , ,N
Point14,xy, , ,in, deg, , ,N, , ,W, grid, , , ,N
Point15,xy, , ,in, deg, , ,N, , ,W, grid, , , ,N
Point16,xy, , ,in, deg, , ,N, , ,W, grid, , , ,N
Point17,xy, , ,in, deg, , ,N, , ,W, grid, , , ,N
Point18,xy, , ,in, deg, , ,N, , ,W, grid, , , ,N
Point19,xy, , ,in, deg, , ,N, , ,W, grid, , , ,N
Point20,xy, , ,in, deg, , ,N, , ,W, grid, , , ,N
Point21,xy, , ,in, deg, , ,N, , ,W, grid, , , ,N
Point22,xy, , ,in, deg, , ,N, , ,W, grid, , , ,N
Point23,xy, , ,in, deg, , ,N, , ,W, grid, , , ,N
Point24,xy, , ,in, deg, , ,N, , ,W, grid, , , ,N
Point25,xy, , ,in, deg, , ,N, , ,W, grid, , , ,N
Point26,xy, , ,in, deg, , ,N, , ,W, grid, , , ,N
Point27,xy, , ,in, deg, , ,N, , ,W, grid, , , ,N
Point28,xy, , ,in, deg, , ,N, , ,W, grid, , , ,N
Point29,xy, , ,in, deg, , ,N, , ,W, grid, , , ,N
Point30,xy, , ,in, deg, , ,N, , ,W, grid, , , ,N
Projection Setup, 0.000000000, 117.000000000, 1.000000000, 500000.00, 0.00,,,,,
Map Feature = MF ; Map Comment = MC These follow if they exist
Track File = TF These follow if they exist
Moving Map Parameters = MM? These follow if they exist
MM0,Yes
MMPNUM,4
MMPXY,1,143,99
MMPXY,2,4337,99
MMPXY,3,4337,2981
MMPXY,4,143,2981
MMPLL,1, 119.014005, 9.996911
MMPLL,2, 119.984447, 9.996823
MMPLL,3, 119.982816, 9.336969
MMPLL,4, 119.014268, 9.336579
MM1B,25.382914
MOP,Map Open Position,0,0
IWH,Map Image Width/Height,4480,3080
