OziExplorer Map Data File Version 2.2
500k--c31-2.gif
500k--c31-2.gif
1 ,Map Code,
Pulkovo 1942 (2),WGS 84, 0.0000, 0.0000,WGS 84
Reserved 1
Reserved 2
Magnetic Variation,,,E
Map Projection,Transverse Mercator,PolyCal,No,AutoCalOnly,No,BSBUseWPX,No
Point01,xy, 82, 67,in, deg, 12, 0.0000,N, 3, 0.0000,E, grid, , , ,N
Point02,xy, 2271, 73,in, deg, 12, 0.0000,N, 4, 30.0000,E, grid, , , ,N
Point03,xy, 4462, 65,in, deg, 12, 0.0000,N, 6, 0.0000,E, grid, , , ,N
Point04,xy, 71, 1546,in, deg, 11, 0.0000,N, 3, 0.0000,E, grid, , , ,N
Point05,xy, 2268, 1551,in, deg, 11, 0.0000,N, 4, 30.0000,E, grid, , , ,N
Point06,xy, 4463, 1544,in, deg, 11, 0.0000,N, 6, 0.0000,E, grid, , , ,N
Point07,xy, 60, 3022,in, deg, 10, 0.0000,N, 3, 0.0000,E, grid, , , ,N
Point08,xy, 2264, 3028,in, deg, 10, 0.0000,N, 4, 30.0000,E, grid, , , ,N
Point09,xy, 4467, 3023,in, deg, 10, 0.0000,N, 6, 0.0000,E, grid, , , ,N
Point10,xy, , ,in, deg, , ,N, , ,W, grid, , , ,N
Point11,xy, , ,in, deg, , ,N, , ,W, grid, , , ,N
Point12,xy, , ,in, deg, , ,N, , ,W, grid, , , ,N
Point13,xy, , ,in, deg, , ,N, , ,W, grid, , , ,N
Point14,xy, , ,in, deg, , ,N, , ,W, grid, , , ,N
Point15,xy, , ,in, deg, , ,N, , ,W, grid, , , ,N
Point16,xy, , ,in, deg, , ,N, , ,W, grid, , , ,N
Point17,xy, , ,in, deg, , ,N, , ,W, grid, , , ,N
Point18,xy, , ,in, deg, , ,N, , ,W, grid, , , ,N
Point19,xy, , ,in, deg, , ,N, , ,W, grid, , , ,N
Point20,xy, , ,in, deg, , ,N, , ,W, grid, , , ,N
Point21,xy, , ,in, deg, , ,N, , ,W, grid, , , ,N
Point22,xy, , ,in, deg, , ,N, , ,W, grid, , , ,N
Point23,xy, , ,in, deg, , ,N, , ,W, grid, , , ,N
Point24,xy, , ,in, deg, , ,N, , ,W, grid, , , ,N
Point25,xy, , ,in, deg, , ,N, , ,W, grid, , , ,N
Point26,xy, , ,in, deg, , ,N, , ,W, grid, , , ,N
Point27,xy, , ,in, deg, , ,N, , ,W, grid, , , ,N
Point28,xy, , ,in, deg, , ,N, , ,W, grid, , , ,N
Point29,xy, , ,in, deg, , ,N, , ,W, grid, , , ,N
Point30,xy, , ,in, deg, , ,N, , ,W, grid, , , ,N
Projection Setup, 0.000000000, 3.000000000, 1.000000000, 500000.00, 0.00,,,,,
Map Feature = MF ; Map Comment = MC These follow if they exist
Track File = TF These follow if they exist
Moving Map Parameters = MM? These follow if they exist
MM0,Yes
MMPNUM,4
MMPXY,1,82,67
MMPXY,2,4462,65
MMPXY,3,4467,3023
MMPXY,4,60,3022
MMPLL,1, 3.000000, 12.000000
MMPLL,2, 6.000000, 12.000000
MMPLL,3, 6.000000, 10.000000
MMPLL,4, 3.000000, 10.000000
MM1B,72.077922
MOP,Map Open Position,0,0
IWH,Map Image Width/Height,4533,3080
