OziExplorer Map Data File Version 2.2
200k--c31-22.gif
200k--c31-22.gif
1 ,Map Code,
Pulkovo 1942 (2),WGS 84, 0.0000, 0.0000,WGS 84
Reserved 1
Reserved 2
Magnetic Variation,,,E
Map Projection,Transverse Mercator,PolyCal,No,AutoCalOnly,No,BSBUseWPX,No
Point01,xy, 60, 86,in, deg, 10, 0.0000,N, 3, 0.0000,E, grid, , , ,N
Point02,xy, 2221, 83,in, deg, 10, 0.0000,N, 3, 30.0000,E, grid, , , ,N
Point03,xy, 4379, 86,in, deg, 10, 0.0000,N, 4, 0.0000,E, grid, , , ,N
Point04,xy, 60, 1539,in, deg, 9, 40.0000,N, 3, 0.0000,E, grid, , , ,N
Point05,xy, 2222, 1542,in, deg, 9, 40.0000,N, 3, 30.0000,E, grid, , , ,N
Point06,xy, 4386, 1541,in, deg, 9, 40.0000,N, 4, 0.0000,E, grid, , , ,N
Point07,xy, 60, 2993,in, deg, 9, 20.0000,N, 3, 0.0000,E, grid, , , ,N
Point08,xy, 2226, 2998,in, deg, 9, 20.0000,N, 3, 30.0000,E, grid, , , ,N
Point09,xy, 4391, 2994,in, deg, 9, 20.0000,N, 4, 0.0000,E, grid, , , ,N
Point10,xy, , ,in, deg, , ,N, , ,W, grid, , , ,N
Point11,xy, , ,in, deg, , ,N, , ,W, grid, , , ,N
Point12,xy, , ,in, deg, , ,N, , ,W, grid, , , ,N
Point13,xy, , ,in, deg, , ,N, , ,W, grid, , , ,N
Point14,xy, , ,in, deg, , ,N, , ,W, grid, , , ,N
Point15,xy, , ,in, deg, , ,N, , ,W, grid, , , ,N
Point16,xy, , ,in, deg, , ,N, , ,W, grid, , , ,N
Point17,xy, , ,in, deg, , ,N, , ,W, grid, , , ,N
Point18,xy, , ,in, deg, , ,N, , ,W, grid, , , ,N
Point19,xy, , ,in, deg, , ,N, , ,W, grid, , , ,N
Point20,xy, , ,in, deg, , ,N, , ,W, grid, , , ,N
Point21,xy, , ,in, deg, , ,N, , ,W, grid, , , ,N
Point22,xy, , ,in, deg, , ,N, , ,W, grid, , , ,N
Point23,xy, , ,in, deg, , ,N, , ,W, grid, , , ,N
Point24,xy, , ,in, deg, , ,N, , ,W, grid, , , ,N
Point25,xy, , ,in, deg, , ,N, , ,W, grid, , , ,N
Point26,xy, , ,in, deg, , ,N, , ,W, grid, , , ,N
Point27,xy, , ,in, deg, , ,N, , ,W, grid, , , ,N
Point28,xy, , ,in, deg, , ,N, , ,W, grid, , , ,N
Point29,xy, , ,in, deg, , ,N, , ,W, grid, , , ,N
Point30,xy, , ,in, deg, , ,N, , ,W, grid, , , ,N
Projection Setup, 0.000000000, 3.000000000, 1.000000000, 500000.00, 0.00,,,,,
Map Feature = MF ; Map Comment = MC These follow if they exist
Track File = TF These follow if they exist
Moving Map Parameters = MM? These follow if they exist
MM0,Yes
MMPNUM,4
MMPXY,1,142,98
MMPXY,2,4311,98
MMPXY,3,4311,2976
MMPXY,4,142,2976
MMPLL,1, 3.019107, 9.996888
MMPLL,2, 3.983911, 9.997057
MMPLL,3, 3.981675, 9.337778
MMPLL,4, 3.018749, 9.337511
MM1B,25.364811
MOP,Map Open Position,0,0
IWH,Map Image Width/Height,4453,3074
