OziExplorer Map Data File Version 2.2
200k--c31-20.gif
200k--c31-20.gif
1 ,Map Code,
Pulkovo 1942 (2),WGS 84, 0.0000, 0.0000,WGS 84
Reserved 1
Reserved 2
Magnetic Variation,,,E
Map Projection,Transverse Mercator,PolyCal,No,AutoCalOnly,No,BSBUseWPX,No
Point01,xy, 79, 88,in, deg, 10, 0.0000,N, 1, 0.0000,E, grid, , , ,N
Point02,xy, 2239, 89,in, deg, 10, 0.0000,N, 1, 30.0000,E, grid, , , ,N
Point03,xy, 4399, 87,in, deg, 10, 0.0000,N, 2, 0.0000,E, grid, , , ,N
Point04,xy, 79, 1543,in, deg, 9, 40.0000,N, 1, 0.0000,E, grid, , , ,N
Point05,xy, 2239, 1543,in, deg, 9, 40.0000,N, 1, 30.0000,E, grid, , , ,N
Point06,xy, 4405, 1539,in, deg, 9, 40.0000,N, 2, 0.0000,E, grid, , , ,N
Point07,xy, 79, 2997,in, deg, 9, 20.0000,N, 1, 0.0000,E, grid, , , ,N
Point08,xy, 2246, 3000,in, deg, 9, 20.0000,N, 1, 30.0000,E, grid, , , ,N
Point09,xy, 4411, 2996,in, deg, 9, 20.0000,N, 2, 0.0000,E, grid, , , ,N
Point10,xy, , ,in, deg, , ,N, , ,W, grid, , , ,N
Point11,xy, , ,in, deg, , ,N, , ,W, grid, , , ,N
Point12,xy, , ,in, deg, , ,N, , ,W, grid, , , ,N
Point13,xy, , ,in, deg, , ,N, , ,W, grid, , , ,N
Point14,xy, , ,in, deg, , ,N, , ,W, grid, , , ,N
Point15,xy, , ,in, deg, , ,N, , ,W, grid, , , ,N
Point16,xy, , ,in, deg, , ,N, , ,W, grid, , , ,N
Point17,xy, , ,in, deg, , ,N, , ,W, grid, , , ,N
Point18,xy, , ,in, deg, , ,N, , ,W, grid, , , ,N
Point19,xy, , ,in, deg, , ,N, , ,W, grid, , , ,N
Point20,xy, , ,in, deg, , ,N, , ,W, grid, , , ,N
Point21,xy, , ,in, deg, , ,N, , ,W, grid, , , ,N
Point22,xy, , ,in, deg, , ,N, , ,W, grid, , , ,N
Point23,xy, , ,in, deg, , ,N, , ,W, grid, , , ,N
Point24,xy, , ,in, deg, , ,N, , ,W, grid, , , ,N
Point25,xy, , ,in, deg, , ,N, , ,W, grid, , , ,N
Point26,xy, , ,in, deg, , ,N, , ,W, grid, , , ,N
Point27,xy, , ,in, deg, , ,N, , ,W, grid, , , ,N
Point28,xy, , ,in, deg, , ,N, , ,W, grid, , , ,N
Point29,xy, , ,in, deg, , ,N, , ,W, grid, , , ,N
Point30,xy, , ,in, deg, , ,N, , ,W, grid, , , ,N
Projection Setup, 0.000000000, 3.000000000, 1.000000000, 500000.00, 0.00,,,,,
Map Feature = MF ; Map Comment = MC These follow if they exist
Track File = TF These follow if they exist
Moving Map Parameters = MM? These follow if they exist
MM0,Yes
MMPNUM,4
MMPXY,1,143,99
MMPXY,2,4324,99
MMPXY,3,4324,2985
MMPXY,4,143,2985
MMPLL,1, 1.015103, 9.997437
MMPLL,2, 1.982534, 9.997141
MMPLL,3, 1.980141, 9.335764
MMPLL,4, 1.014599, 9.336343
MM1B,25.368163
MOP,Map Open Position,0,0
IWH,Map Image Width/Height,4467,3084
