OziExplorer Map Data File Version 2.2
200k--c31-19.gif
200k--c31-19.gif
1 ,Map Code,
Pulkovo 1942 (2),WGS 84, 0.0000, 0.0000,WGS 84
Reserved 1
Reserved 2
Magnetic Variation,,,E
Map Projection,Transverse Mercator,PolyCal,No,AutoCalOnly,No,BSBUseWPX,No
Point01,xy, 74, 72,in, deg, 10, 0.0000,N, 0, 0.0000,E, grid, , , ,N
Point02,xy, 1691, 73,in, deg, 10, 0.0000,N, 0, 30.0000,E, grid, , , ,N
Point03,xy, 3310, 68,in, deg, 10, 0.0000,N, 1, 0.0000,E, grid, , , ,N
Point04,xy, 75, 1166,in, deg, 9, 40.0000,N, 0, 0.0000,E, grid, , , ,N
Point05,xy, 1694, 1165,in, deg, 9, 40.0000,N, 0, 30.0000,E, grid, , , ,N
Point06,xy, 3313, 1161,in, deg, 9, 40.0000,N, 1, 0.0000,E, grid, , , ,N
Point07,xy, 74, 2260,in, deg, 9, 20.0000,N, 0, 0.0000,E, grid, , , ,N
Point08,xy, 1693, 2260,in, deg, 9, 20.0000,N, 0, 30.0000,E, grid, , , ,N
Point09,xy, 3315, 2254,in, deg, 9, 20.0000,N, 1, 0.0000,E, grid, , , ,N
Point10,xy, , ,in, deg, , ,N, , ,W, grid, , , ,N
Point11,xy, , ,in, deg, , ,N, , ,W, grid, , , ,N
Point12,xy, , ,in, deg, , ,N, , ,W, grid, , , ,N
Point13,xy, , ,in, deg, , ,N, , ,W, grid, , , ,N
Point14,xy, , ,in, deg, , ,N, , ,W, grid, , , ,N
Point15,xy, , ,in, deg, , ,N, , ,W, grid, , , ,N
Point16,xy, , ,in, deg, , ,N, , ,W, grid, , , ,N
Point17,xy, , ,in, deg, , ,N, , ,W, grid, , , ,N
Point18,xy, , ,in, deg, , ,N, , ,W, grid, , , ,N
Point19,xy, , ,in, deg, , ,N, , ,W, grid, , , ,N
Point20,xy, , ,in, deg, , ,N, , ,W, grid, , , ,N
Point21,xy, , ,in, deg, , ,N, , ,W, grid, , , ,N
Point22,xy, , ,in, deg, , ,N, , ,W, grid, , , ,N
Point23,xy, , ,in, deg, , ,N, , ,W, grid, , , ,N
Point24,xy, , ,in, deg, , ,N, , ,W, grid, , , ,N
Point25,xy, , ,in, deg, , ,N, , ,W, grid, , , ,N
Point26,xy, , ,in, deg, , ,N, , ,W, grid, , , ,N
Point27,xy, , ,in, deg, , ,N, , ,W, grid, , , ,N
Point28,xy, , ,in, deg, , ,N, , ,W, grid, , , ,N
Point29,xy, , ,in, deg, , ,N, , ,W, grid, , , ,N
Point30,xy, , ,in, deg, , ,N, , ,W, grid, , , ,N
Projection Setup, 0.000000000, 3.000000000, 1.000000000, 500000.00, 0.00,,,,,
Map Feature = MF ; Map Comment = MC These follow if they exist
Track File = TF These follow if they exist
Moving Map Parameters = MM? These follow if they exist
MM0,Yes
MMPNUM,4
MMPXY,1,74,72
MMPXY,2,3310,68
MMPXY,3,3315,2254
MMPXY,4,74,2260
MMPLL,1, 0.000000, 10.000000
MMPLL,2, 1.000000, 10.000000
MMPLL,3, 1.000000, 9.333333
MMPLL,4, 0.000000, 9.333333
MM1B,31.869078
MOP,Map Open Position,0,0
IWH,Map Image Width/Height,3382,2322
