OziExplorer Map Data File Version 2.2
200k--c31-17.gif
200k--c31-17.gif
1 ,Map Code,
Pulkovo 1942 (2),WGS 84, 0.0000, 0.0000,WGS 84
Reserved 1
Reserved 2
Magnetic Variation,,,E
Map Projection,Transverse Mercator,PolyCal,No,AutoCalOnly,No,BSBUseWPX,No
Point01,xy, 59, 86,in, deg, 10, 40.0000,N, 4, 0.0000,E, grid, , , ,N
Point02,xy, 2215, 82,in, deg, 10, 40.0000,N, 4, 30.0000,E, grid, , , ,N
Point03,xy, 4373, 85,in, deg, 10, 40.0000,N, 5, 0.0000,E, grid, , , ,N
Point04,xy, 61, 1540,in, deg, 10, 20.0000,N, 4, 0.0000,E, grid, , , ,N
Point05,xy, 2219, 1540,in, deg, 10, 20.0000,N, 4, 30.0000,E, grid, , , ,N
Point06,xy, 4379, 1535,in, deg, 10, 20.0000,N, 5, 0.0000,E, grid, , , ,N
Point07,xy, 61, 2993,in, deg, 10, 0.0000,N, 4, 0.0000,E, grid, , , ,N
Point08,xy, 2223, 2995,in, deg, 10, 0.0000,N, 4, 30.0000,E, grid, , , ,N
Point09,xy, 4383, 2992,in, deg, 10, 0.0000,N, 5, 0.0000,E, grid, , , ,N
Point10,xy, , ,in, deg, , ,N, , ,W, grid, , , ,N
Point11,xy, , ,in, deg, , ,N, , ,W, grid, , , ,N
Point12,xy, , ,in, deg, , ,N, , ,W, grid, , , ,N
Point13,xy, , ,in, deg, , ,N, , ,W, grid, , , ,N
Point14,xy, , ,in, deg, , ,N, , ,W, grid, , , ,N
Point15,xy, , ,in, deg, , ,N, , ,W, grid, , , ,N
Point16,xy, , ,in, deg, , ,N, , ,W, grid, , , ,N
Point17,xy, , ,in, deg, , ,N, , ,W, grid, , , ,N
Point18,xy, , ,in, deg, , ,N, , ,W, grid, , , ,N
Point19,xy, , ,in, deg, , ,N, , ,W, grid, , , ,N
Point20,xy, , ,in, deg, , ,N, , ,W, grid, , , ,N
Point21,xy, , ,in, deg, , ,N, , ,W, grid, , , ,N
Point22,xy, , ,in, deg, , ,N, , ,W, grid, , , ,N
Point23,xy, , ,in, deg, , ,N, , ,W, grid, , , ,N
Point24,xy, , ,in, deg, , ,N, , ,W, grid, , , ,N
Point25,xy, , ,in, deg, , ,N, , ,W, grid, , , ,N
Point26,xy, , ,in, deg, , ,N, , ,W, grid, , , ,N
Point27,xy, , ,in, deg, , ,N, , ,W, grid, , , ,N
Point28,xy, , ,in, deg, , ,N, , ,W, grid, , , ,N
Point29,xy, , ,in, deg, , ,N, , ,W, grid, , , ,N
Point30,xy, , ,in, deg, , ,N, , ,W, grid, , , ,N
Projection Setup, 0.000000000, 3.000000000, 1.000000000, 500000.00, 0.00,,,,,
Map Feature = MF ; Map Comment = MC These follow if they exist
Track File = TF These follow if they exist
Moving Map Parameters = MM? These follow if they exist
MM0,Yes
MMPNUM,4
MMPXY,1,143,98
MMPXY,2,4326,98
MMPXY,3,4326,2976
MMPXY,4,143,2976
MMPLL,1, 4.019424, 10.663720
MMPLL,2, 4.989175, 10.663046
MMPLL,3, 4.986630, 10.003638
MMPLL,4, 4.018900, 10.004023
MM1B,25.363456
MOP,Map Open Position,0,0
IWH,Map Image Width/Height,4469,3074
