OziExplorer Map Data File Version 2.2
200k--c31-15.gif
200k--c31-15.gif
1 ,Map Code,
Pulkovo 1942 (2),WGS 84, 0.0000, 0.0000,WGS 84
Reserved 1
Reserved 2
Magnetic Variation,,,E
Map Projection,Transverse Mercator,PolyCal,No,AutoCalOnly,No,BSBUseWPX,No
Point01,xy, 69, 84,in, deg, 10, 40.0000,N, 2, 0.0000,E, grid, , , ,N
Point02,xy, 2223, 89,in, deg, 10, 40.0000,N, 2, 30.0000,E, grid, , , ,N
Point03,xy, 4377, 91,in, deg, 10, 40.0000,N, 3, 0.0000,E, grid, , , ,N
Point04,xy, 66, 1539,in, deg, 10, 20.0000,N, 2, 0.0000,E, grid, , , ,N
Point05,xy, 2222, 1545,in, deg, 10, 20.0000,N, 2, 30.0000,E, grid, , , ,N
Point06,xy, 4380, 1545,in, deg, 10, 20.0000,N, 3, 0.0000,E, grid, , , ,N
Point07,xy, 61, 2993,in, deg, 10, 0.0000,N, 2, 0.0000,E, grid, , , ,N
Point08,xy, 2221, 3002,in, deg, 10, 0.0000,N, 2, 30.0000,E, grid, , , ,N
Point09,xy, 4382, 3001,in, deg, 10, 0.0000,N, 3, 0.0000,E, grid, , , ,N
Point10,xy, , ,in, deg, , ,N, , ,W, grid, , , ,N
Point11,xy, , ,in, deg, , ,N, , ,W, grid, , , ,N
Point12,xy, , ,in, deg, , ,N, , ,W, grid, , , ,N
Point13,xy, , ,in, deg, , ,N, , ,W, grid, , , ,N
Point14,xy, , ,in, deg, , ,N, , ,W, grid, , , ,N
Point15,xy, , ,in, deg, , ,N, , ,W, grid, , , ,N
Point16,xy, , ,in, deg, , ,N, , ,W, grid, , , ,N
Point17,xy, , ,in, deg, , ,N, , ,W, grid, , , ,N
Point18,xy, , ,in, deg, , ,N, , ,W, grid, , , ,N
Point19,xy, , ,in, deg, , ,N, , ,W, grid, , , ,N
Point20,xy, , ,in, deg, , ,N, , ,W, grid, , , ,N
Point21,xy, , ,in, deg, , ,N, , ,W, grid, , , ,N
Point22,xy, , ,in, deg, , ,N, , ,W, grid, , , ,N
Point23,xy, , ,in, deg, , ,N, , ,W, grid, , , ,N
Point24,xy, , ,in, deg, , ,N, , ,W, grid, , , ,N
Point25,xy, , ,in, deg, , ,N, , ,W, grid, , , ,N
Point26,xy, , ,in, deg, , ,N, , ,W, grid, , , ,N
Point27,xy, , ,in, deg, , ,N, , ,W, grid, , , ,N
Point28,xy, , ,in, deg, , ,N, , ,W, grid, , , ,N
Point29,xy, , ,in, deg, , ,N, , ,W, grid, , , ,N
Point30,xy, , ,in, deg, , ,N, , ,W, grid, , , ,N
Projection Setup, 0.000000000, 3.000000000, 1.000000000, 500000.00, 0.00,,,,,
Map Feature = MF ; Map Comment = MC These follow if they exist
Track File = TF These follow if they exist
Moving Map Parameters = MM? These follow if they exist
MM0,Yes
MMPNUM,4
MMPXY,1,142,99
MMPXY,2,4302,99
MMPXY,3,4302,2990
MMPXY,4,142,2990
MMPLL,1, 2.017113, 10.663217
MMPLL,2, 2.982355, 10.664811
MMPLL,3, 2.981730, 10.002610
MMPLL,4, 2.018506, 10.001112
MM1B,25.377726
MOP,Map Open Position,0,0
IWH,Map Image Width/Height,4444,3089
