OziExplorer Map Data File Version 2.2
500k--b38-2.gif
500k--b38-2.gif
1 ,Map Code,
Pulkovo 1942 (2),WGS 84, 0.0000, 0.0000,WGS 84
Reserved 1
Reserved 2
Magnetic Variation,,,E
Map Projection,Transverse Mercator,PolyCal,No,AutoCalOnly,No,BSBUseWPX,No
Point01,xy, 77, 62,in, deg, 8, 0.0000,N, 45, 0.0000,E, grid, , , ,N
Point02,xy, 2292, 73,in, deg, 8, 0.0000,N, 46, 30.0000,E, grid, , , ,N
Point03,xy, 4509, 79,in, deg, 8, 0.0000,N, 48, 0.0000,E, grid, , , ,N
Point04,xy, 69, 1540,in, deg, 7, 0.0000,N, 45, 0.0000,E, grid, , , ,N
Point05,xy, 2288, 1555,in, deg, 7, 0.0000,N, 46, 30.0000,E, grid, , , ,N
Point06,xy, 4509, 1559,in, deg, 7, 0.0000,N, 48, 0.0000,E, grid, , , ,N
Point07,xy, 62, 3025,in, deg, 6, 0.0000,N, 45, 0.0000,E, grid, , , ,N
Point08,xy, 2287, 3037,in, deg, 6, 0.0000,N, 46, 30.0000,E, grid, , , ,N
Point09,xy, 4510, 3042,in, deg, 6, 0.0000,N, 48, 0.0000,E, grid, , , ,N
Point10,xy, , ,in, deg, , ,N, , ,W, grid, , , ,N
Point11,xy, , ,in, deg, , ,N, , ,W, grid, , , ,N
Point12,xy, , ,in, deg, , ,N, , ,W, grid, , , ,N
Point13,xy, , ,in, deg, , ,N, , ,W, grid, , , ,N
Point14,xy, , ,in, deg, , ,N, , ,W, grid, , , ,N
Point15,xy, , ,in, deg, , ,N, , ,W, grid, , , ,N
Point16,xy, , ,in, deg, , ,N, , ,W, grid, , , ,N
Point17,xy, , ,in, deg, , ,N, , ,W, grid, , , ,N
Point18,xy, , ,in, deg, , ,N, , ,W, grid, , , ,N
Point19,xy, , ,in, deg, , ,N, , ,W, grid, , , ,N
Point20,xy, , ,in, deg, , ,N, , ,W, grid, , , ,N
Point21,xy, , ,in, deg, , ,N, , ,W, grid, , , ,N
Point22,xy, , ,in, deg, , ,N, , ,W, grid, , , ,N
Point23,xy, , ,in, deg, , ,N, , ,W, grid, , , ,N
Point24,xy, , ,in, deg, , ,N, , ,W, grid, , , ,N
Point25,xy, , ,in, deg, , ,N, , ,W, grid, , , ,N
Point26,xy, , ,in, deg, , ,N, , ,W, grid, , , ,N
Point27,xy, , ,in, deg, , ,N, , ,W, grid, , , ,N
Point28,xy, , ,in, deg, , ,N, , ,W, grid, , , ,N
Point29,xy, , ,in, deg, , ,N, , ,W, grid, , , ,N
Point30,xy, , ,in, deg, , ,N, , ,W, grid, , , ,N
Projection Setup, 0.000000000, 45.000000000, 1.000000000, 500000.00, 0.00,,,,,
Map Feature = MF ; Map Comment = MC These follow if they exist
Track File = TF These follow if they exist
Moving Map Parameters = MM? These follow if they exist
MM0,Yes
MMPNUM,4
MMPXY,1,77,62
MMPXY,2,4509,79
MMPXY,3,4510,3042
MMPXY,4,62,3025
MMPLL,1, 45.000000, 8.000000
MMPLL,2, 48.000000, 8.000000
MMPLL,3, 48.000000, 6.000000
MMPLL,4, 45.000000, 6.000000
MM1B,71.612903
MOP,Map Open Position,0,0
IWH,Map Image Width/Height,4575,3100
