OziExplorer Map Data File Version 2.2
Адм.-полит.Россия и окр.
D:\Dmitry\Personal\maps\ozi\maps\rus.ozf2
1 ,Map Code,
Pulkovo 1942 (2),WGS 84, 0.0000, 0.0000,WGS 84
Reserved 1
Reserved 2
Magnetic Variation,,,E
Map Projection,(EQC) Equidistant Conic,PolyCal,Yes,AutoCalOnly,No,BSBUseWPX,No
Point01,xy, 3040, 1654,in, deg, 64, 0.0000,N, 30, 0.0000,E, grid, , , ,N
Point02,xy, 6913, 4022,in, deg, 64, 0.0000,N, 96, 0.0000,E, grid, , , ,N
Point03,xy,11486, 1359,in, deg, 64, 0.0000,N, 174, 0.0000,E, grid, , , ,N
Point04,xy,12609, 3285,in, deg, 52, 0.0000,N, 162, 0.0000,E, grid, , , ,N
Point05,xy, 6799, 5998,in, deg, 52, 0.0000,N, 96, 0.0000,E, grid, , , ,N
Point06,xy, 1340, 2658,in, deg, 52, 0.0000,N, 30, 0.0000,E, grid, , , ,N
Point07,xy, 2292, 6505,in, deg, 40, 0.0000,N, 60, 0.0000,E, grid, , , ,N
Point08,xy,10914, 6408,in, deg, 44, 0.0000,N, 132, 0.0000,E, grid, , , ,N
Point09,xy, 7064, 1384,in, deg, 80, 0.0000,N, 96, 0.0000,E, grid, , , ,N
Point10,xy, , ,in, deg, , ,N, , ,W, grid, , , ,N
Point11,xy, , ,in, deg, , ,N, , ,W, grid, , , ,N
Point12,xy, , ,in, deg, , ,N, , ,W, grid, , , ,N
Point13,xy, , ,in, deg, , ,N, , ,W, grid, , , ,N
Point14,xy, , ,in, deg, , ,N, , ,W, grid, , , ,N
Point15,xy, , ,in, deg, , ,N, , ,W, grid, , , ,N
Point16,xy, , ,in, deg, , ,N, , ,W, grid, , , ,N
Point17,xy, , ,in, deg, , ,N, , ,W, grid, , , ,N
Point18,xy, , ,in, deg, , ,N, , ,W, grid, , , ,N
Point19,xy, , ,in, deg, , ,N, , ,W, grid, , , ,N
Point20,xy, , ,in, deg, , ,N, , ,W, grid, , , ,N
Point21,xy, , ,in, deg, , ,N, , ,W, grid, , , ,N
Point22,xy, , ,in, deg, , ,N, , ,W, grid, , , ,N
Point23,xy, , ,in, deg, , ,N, , ,W, grid, , , ,N
Point24,xy, , ,in, deg, , ,N, , ,W, grid, , , ,N
Point25,xy, , ,in, deg, , ,N, , ,W, grid, , , ,N
Point26,xy, , ,in, deg, , ,N, , ,W, grid, , , ,N
Point27,xy, , ,in, deg, , ,N, , ,W, grid, , , ,N
Point28,xy, , ,in, deg, , ,N, , ,W, grid, , , ,N
Point29,xy, , ,in, deg, , ,N, , ,W, grid, , , ,N
Point30,xy, , ,in, deg, , ,N, , ,W, grid, , , ,N
Projection Setup,, 100.000000000,,,, 59.000000000, 58.000000000,,,
Map Feature = MF ; Map Comment = MC These follow if they exist
Track File = TF These follow if they exist
Moving Map Parameters = MM? These follow if they exist
MM0,Yes
MMPNUM,4
MMPXY,1,3153,870
MMPXY,2,10640,724
MMPXY,3,12603,7697
MMPXY,4,44,3380
MMPLL,1, 20.651377, 66.736898
MMPLL,2, 177.178091, 70.326315
MMPLL,3, 138.166557, 32.087877
MMPLL,4, 29.529995, 42.979398
MM1B,682.124556
LL Grid Setup
LLGRID,No,No Grid,Yes,255,16711680,0,No Labels,0,16777215,7,1,Yes,x
Other Grid Setup
GRGRID,No,No Grid,Yes,255,16711680,No Labels,0,16777215,8,1,Yes,No,No,x
MOP,Map Open Position,1869,2621
IWH,Map Image Width/Height,12859,8201
